BEGIN:VCALENDAR
VERSION:2.0
PRODID:-//Abingdon on Thames Town Council - ECPv6.15.18//NONSGML v1.0//EN
CALSCALE:GREGORIAN
METHOD:PUBLISH
X-WR-CALNAME:Abingdon on Thames Town Council
X-ORIGINAL-URL:https://www.abingdon.gov.uk
X-WR-CALDESC:Events for Abingdon on Thames Town Council
REFRESH-INTERVAL;VALUE=DURATION:PT1H
X-Robots-Tag:noindex
X-PUBLISHED-TTL:PT1H
BEGIN:VTIMEZONE
TZID:Europe/London
BEGIN:DAYLIGHT
TZOFFSETFROM:+0000
TZOFFSETTO:+0100
TZNAME:BST
DTSTART:20230326T010000
END:DAYLIGHT
BEGIN:STANDARD
TZOFFSETFROM:+0100
TZOFFSETTO:+0000
TZNAME:GMT
DTSTART:20231029T010000
END:STANDARD
BEGIN:DAYLIGHT
TZOFFSETFROM:+0000
TZOFFSETTO:+0100
TZNAME:BST
DTSTART:20240331T010000
END:DAYLIGHT
BEGIN:STANDARD
TZOFFSETFROM:+0100
TZOFFSETTO:+0000
TZNAME:GMT
DTSTART:20241027T010000
END:STANDARD
BEGIN:DAYLIGHT
TZOFFSETFROM:+0000
TZOFFSETTO:+0100
TZNAME:BST
DTSTART:20250330T010000
END:DAYLIGHT
BEGIN:STANDARD
TZOFFSETFROM:+0100
TZOFFSETTO:+0000
TZNAME:GMT
DTSTART:20251026T010000
END:STANDARD
END:VTIMEZONE
BEGIN:VEVENT
DTSTART;TZID=Europe/London:20240628T110000
DTEND;TZID=Europe/London:20240628T120000
DTSTAMP:20260423T135047
CREATED:20240604T101829Z
LAST-MODIFIED:20240604T101829Z
UID:49978-1719572400-1719576000@www.abingdon.gov.uk
SUMMARY:Puppet Theatre Barge - The Insect Circus
DESCRIPTION:The Puppet Theatre Barge returns to Abingdon with their string puppet performance The Insect Circus. \nCome and watch an imaginative and intricate puppet show in the UK’s only floating puppet theatre. The show invites the audience to forget reality and become immersed in the strange and beautiful world of insects. Beetles and grasshoppers\, wasps and dragonflies\, demonstrate their dexterity with great skill and humour!\nWith multiple performances between June 29th and August 11th\, please check our website for detail and to book tickets. \nDuration 45mins\nThis show can be enjoyed by the whole family but is aimed at ages 3 – 11 years old.
URL:https://www.abingdon.gov.uk/event/puppet-theatre-barge-the-insect-circus-9
LOCATION:Puppet Theatre Barge\, Abbey Meadows\, Abingdon\, OXFORDSHIRE\, OX14 3ZB\, United Kingdom
CATEGORIES:Arts & Culture
ATTACH;FMTTYPE=image/jpeg:https://www.abingdon.gov.uk/wp-content/uploads/2024/06/IMG_2143.jpg
ORGANIZER;CN="Puppet Theatre Barge":MAILTO:info@puppetbarge.com
END:VEVENT
END:VCALENDAR