BEGIN:VCALENDAR
VERSION:2.0
PRODID:-//Abingdon on Thames Town Council - ECPv6.15.18//NONSGML v1.0//EN
CALSCALE:GREGORIAN
METHOD:PUBLISH
X-WR-CALNAME:Abingdon on Thames Town Council
X-ORIGINAL-URL:https://www.abingdon.gov.uk
X-WR-CALDESC:Events for Abingdon on Thames Town Council
REFRESH-INTERVAL;VALUE=DURATION:PT1H
X-Robots-Tag:noindex
X-PUBLISHED-TTL:PT1H
BEGIN:VTIMEZONE
TZID:Europe/London
BEGIN:DAYLIGHT
TZOFFSETFROM:+0000
TZOFFSETTO:+0100
TZNAME:BST
DTSTART:20200329T010000
END:DAYLIGHT
BEGIN:STANDARD
TZOFFSETFROM:+0100
TZOFFSETTO:+0000
TZNAME:GMT
DTSTART:20201025T010000
END:STANDARD
BEGIN:DAYLIGHT
TZOFFSETFROM:+0000
TZOFFSETTO:+0100
TZNAME:BST
DTSTART:20210328T010000
END:DAYLIGHT
BEGIN:STANDARD
TZOFFSETFROM:+0100
TZOFFSETTO:+0000
TZNAME:GMT
DTSTART:20211031T010000
END:STANDARD
BEGIN:DAYLIGHT
TZOFFSETFROM:+0000
TZOFFSETTO:+0100
TZNAME:BST
DTSTART:20220327T010000
END:DAYLIGHT
BEGIN:STANDARD
TZOFFSETFROM:+0100
TZOFFSETTO:+0000
TZNAME:GMT
DTSTART:20221030T010000
END:STANDARD
END:VTIMEZONE
BEGIN:VEVENT
DTSTART;TZID=Europe/London:20211218T100000
DTEND;TZID=Europe/London:20211218T180000
DTSTAMP:20260423T092033
CREATED:20211102T163713Z
LAST-MODIFIED:20211102T163713Z
UID:17885-1639821600-1639850400@www.abingdon.gov.uk
SUMMARY:Remembrance Tree
DESCRIPTION:The Rotary Club of Abingdon Vesper invites you to remember your loved ones by attaching ribbons in their memory to our special Remembrance Tree in the Abingdon Market Place. Come and support our many charities with a donation\, learn about Rotary and about our African fuel saving mud-stoves\, and purchase a stocking filler to help combat deforestation.
URL:https://www.abingdon.gov.uk/event/remembrance-tree-2
LOCATION:Abingdon Market Place
CATEGORIES:Market Place
ATTACH;FMTTYPE=image/jpeg:https://www.abingdon.gov.uk/wp-content/uploads/2021/11/PHOTO-2021-11-01-13-39-14-2-8.jpg
ORGANIZER;CN="The Rotary Club of Abingdon Vesper":MAILTO:mayasmeulders@hotmail.com
END:VEVENT
END:VCALENDAR