BEGIN:VCALENDAR
VERSION:2.0
PRODID:-//Abingdon on Thames Town Council - ECPv6.15.18//NONSGML v1.0//EN
CALSCALE:GREGORIAN
METHOD:PUBLISH
X-WR-CALNAME:Abingdon on Thames Town Council
X-ORIGINAL-URL:https://www.abingdon.gov.uk
X-WR-CALDESC:Events for Abingdon on Thames Town Council
REFRESH-INTERVAL;VALUE=DURATION:PT1H
X-Robots-Tag:noindex
X-PUBLISHED-TTL:PT1H
BEGIN:VTIMEZONE
TZID:Europe/London
BEGIN:DAYLIGHT
TZOFFSETFROM:+0000
TZOFFSETTO:+0100
TZNAME:BST
DTSTART:20230326T010000
END:DAYLIGHT
BEGIN:STANDARD
TZOFFSETFROM:+0100
TZOFFSETTO:+0000
TZNAME:GMT
DTSTART:20231029T010000
END:STANDARD
BEGIN:DAYLIGHT
TZOFFSETFROM:+0000
TZOFFSETTO:+0100
TZNAME:BST
DTSTART:20240331T010000
END:DAYLIGHT
BEGIN:STANDARD
TZOFFSETFROM:+0100
TZOFFSETTO:+0000
TZNAME:GMT
DTSTART:20241027T010000
END:STANDARD
BEGIN:DAYLIGHT
TZOFFSETFROM:+0000
TZOFFSETTO:+0100
TZNAME:BST
DTSTART:20250330T010000
END:DAYLIGHT
BEGIN:STANDARD
TZOFFSETFROM:+0100
TZOFFSETTO:+0000
TZNAME:GMT
DTSTART:20251026T010000
END:STANDARD
END:VTIMEZONE
BEGIN:VEVENT
DTSTART;TZID=Europe/London:20240526T140000
DTEND;TZID=Europe/London:20240526T170000
DTSTAMP:20260423T055238
CREATED:20240305T134316Z
LAST-MODIFIED:20240305T134316Z
UID:46668-1716732000-1716742800@www.abingdon.gov.uk
SUMMARY:ROH Live: The Winter’s Tale (Encore)
DESCRIPTION:King Leontes of Sicilia is crippled with an all–consuming jealousy when his friend\, King Polixenes of Bohemia\, stays with him and his wife Hermione. What follows is a tale where a marriage is destroyed\, a child is abandoned and all hope is seemingly lost for two lovers. Celebrating its tenth anniversary\, The Winter’s Tale is an award–winning modern ballet classic\, packed with emotional turmoil heightened by Joby Talbot’s compelling score and Bob Crowley’s atmospheric designs.
URL:https://www.abingdon.gov.uk/event/roh-live-the-winters-tale-encore
LOCATION:Amey Theatre\, Abingdon School\, Abingdon School Park Road\, Abingdon\, OX14 1DE\, United Kingdom
CATEGORIES:Arts & Culture
ATTACH;FMTTYPE=image/jpeg:https://www.abingdon.gov.uk/wp-content/uploads/2024/03/ROH-Cinema-Thumbnails_1200x800-WINTERS-TALE-2000x1333-1.jpeg
ORGANIZER;CN="Amey Theatre":MAILTO:boxoffice@abingdon.org.uk
END:VEVENT
END:VCALENDAR