BEGIN:VCALENDAR
VERSION:2.0
PRODID:-//Abingdon on Thames Town Council - ECPv6.15.18//NONSGML v1.0//EN
CALSCALE:GREGORIAN
METHOD:PUBLISH
X-WR-CALNAME:Abingdon on Thames Town Council
X-ORIGINAL-URL:https://www.abingdon.gov.uk
X-WR-CALDESC:Events for Abingdon on Thames Town Council
REFRESH-INTERVAL;VALUE=DURATION:PT1H
X-Robots-Tag:noindex
X-PUBLISHED-TTL:PT1H
BEGIN:VTIMEZONE
TZID:Europe/London
BEGIN:DAYLIGHT
TZOFFSETFROM:+0000
TZOFFSETTO:+0100
TZNAME:BST
DTSTART:20200329T010000
END:DAYLIGHT
BEGIN:STANDARD
TZOFFSETFROM:+0100
TZOFFSETTO:+0000
TZNAME:GMT
DTSTART:20201025T010000
END:STANDARD
BEGIN:DAYLIGHT
TZOFFSETFROM:+0000
TZOFFSETTO:+0100
TZNAME:BST
DTSTART:20210328T010000
END:DAYLIGHT
BEGIN:STANDARD
TZOFFSETFROM:+0100
TZOFFSETTO:+0000
TZNAME:GMT
DTSTART:20211031T010000
END:STANDARD
BEGIN:DAYLIGHT
TZOFFSETFROM:+0000
TZOFFSETTO:+0100
TZNAME:BST
DTSTART:20220327T010000
END:DAYLIGHT
BEGIN:STANDARD
TZOFFSETFROM:+0100
TZOFFSETTO:+0000
TZNAME:GMT
DTSTART:20221030T010000
END:STANDARD
END:VTIMEZONE
BEGIN:VEVENT
DTSTART;TZID=Europe/London:20211120T103000
DTEND;TZID=Europe/London:20211120T140000
DTSTAMP:20260422T221317
CREATED:20211115T092829Z
LAST-MODIFIED:20211115T092829Z
UID:18135-1637404200-1637416800@www.abingdon.gov.uk
SUMMARY:St Michaels Church Christmas Fair
DESCRIPTION:St Michael’s Church annual Christmas Fair. Proceeds in aid of church funds and local charity  Abingdon Bridge\, and Tariro. Please come and visit us; there is something for everyone: Gift stalls\, cakes\, games\, prize raffle\, tombola\, books\, paintings\, plants\, refreshments etc.  We look forward to welcoming you.
URL:https://www.abingdon.gov.uk/event/st-michaels-church-christmas-fair
LOCATION:St Michael and All Angels’ Church\, Park Road\, Abingdon\, Oxfordshire\, United Kingdom
CATEGORIES:Shopping
ATTACH;FMTTYPE=image/jpeg:https://www.abingdon.gov.uk/wp-content/uploads/2021/11/StMichaelsPoster-scaled.jpg
ORGANIZER;CN="St Michael and All Angels' Church":MAILTO:lheff@stmichaels-abingdon.org.uk
END:VEVENT
END:VCALENDAR