BEGIN:VCALENDAR
VERSION:2.0
PRODID:-//Abingdon on Thames Town Council - ECPv6.15.18//NONSGML v1.0//EN
CALSCALE:GREGORIAN
METHOD:PUBLISH
X-WR-CALNAME:Abingdon on Thames Town Council
X-ORIGINAL-URL:https://www.abingdon.gov.uk
X-WR-CALDESC:Events for Abingdon on Thames Town Council
REFRESH-INTERVAL;VALUE=DURATION:PT1H
X-Robots-Tag:noindex
X-PUBLISHED-TTL:PT1H
BEGIN:VTIMEZONE
TZID:Europe/London
BEGIN:DAYLIGHT
TZOFFSETFROM:+0000
TZOFFSETTO:+0100
TZNAME:BST
DTSTART:20200329T010000
END:DAYLIGHT
BEGIN:STANDARD
TZOFFSETFROM:+0100
TZOFFSETTO:+0000
TZNAME:GMT
DTSTART:20201025T010000
END:STANDARD
BEGIN:DAYLIGHT
TZOFFSETFROM:+0000
TZOFFSETTO:+0100
TZNAME:BST
DTSTART:20210328T010000
END:DAYLIGHT
BEGIN:STANDARD
TZOFFSETFROM:+0100
TZOFFSETTO:+0000
TZNAME:GMT
DTSTART:20211031T010000
END:STANDARD
BEGIN:DAYLIGHT
TZOFFSETFROM:+0000
TZOFFSETTO:+0100
TZNAME:BST
DTSTART:20220327T010000
END:DAYLIGHT
BEGIN:STANDARD
TZOFFSETFROM:+0100
TZOFFSETTO:+0000
TZNAME:GMT
DTSTART:20221030T010000
END:STANDARD
END:VTIMEZONE
BEGIN:VEVENT
DTSTART;TZID=Europe/London:20210727T100000
DTEND;TZID=Europe/London:20210727T153000
DTSTAMP:20260423T010639
CREATED:20210706T151507Z
LAST-MODIFIED:20210706T151507Z
UID:14651-1627380000-1627399800@www.abingdon.gov.uk
SUMMARY:STAMP IT! PRINT IT! with Emma Williams
DESCRIPTION:Join us for a whole day dedicated to the joy of stamping patterns and printing images. Learn how to make stamps and templates from household items to decorate a canvas tote bag. Then\, create a printing plate from recycled materials and print your own images and greetings cards to take home. All materials provided\, you just need to remember to bring a packed lunch and your enthusiasm! Suitable for 8-11 year olds.
URL:https://www.abingdon.gov.uk/event/stamp-it-print-it-with-emma-williams
LOCATION:Sunningwell School of Art\, Old School\, Sunningwell\, OX13 6RD\, United Kingdom
CATEGORIES:Arts & Culture
ATTACH;FMTTYPE=image/jpeg:https://www.abingdon.gov.uk/wp-content/uploads/2021/07/Stamp-it-print-it.jpg
ORGANIZER;CN="Sunningwell School of Art":MAILTO:sunningwell@artschool.org.uk
END:VEVENT
END:VCALENDAR