BEGIN:VCALENDAR
VERSION:2.0
PRODID:-//Abingdon on Thames Town Council - ECPv6.15.18//NONSGML v1.0//EN
CALSCALE:GREGORIAN
METHOD:PUBLISH
X-WR-CALNAME:Abingdon on Thames Town Council
X-ORIGINAL-URL:https://www.abingdon.gov.uk
X-WR-CALDESC:Events for Abingdon on Thames Town Council
REFRESH-INTERVAL;VALUE=DURATION:PT1H
X-Robots-Tag:noindex
X-PUBLISHED-TTL:PT1H
BEGIN:VTIMEZONE
TZID:Europe/London
BEGIN:DAYLIGHT
TZOFFSETFROM:+0000
TZOFFSETTO:+0100
TZNAME:BST
DTSTART:20230326T010000
END:DAYLIGHT
BEGIN:STANDARD
TZOFFSETFROM:+0100
TZOFFSETTO:+0000
TZNAME:GMT
DTSTART:20231029T010000
END:STANDARD
BEGIN:DAYLIGHT
TZOFFSETFROM:+0000
TZOFFSETTO:+0100
TZNAME:BST
DTSTART:20240331T010000
END:DAYLIGHT
BEGIN:STANDARD
TZOFFSETFROM:+0100
TZOFFSETTO:+0000
TZNAME:GMT
DTSTART:20241027T010000
END:STANDARD
BEGIN:DAYLIGHT
TZOFFSETFROM:+0000
TZOFFSETTO:+0100
TZNAME:BST
DTSTART:20250330T010000
END:DAYLIGHT
BEGIN:STANDARD
TZOFFSETFROM:+0100
TZOFFSETTO:+0000
TZNAME:GMT
DTSTART:20251026T010000
END:STANDARD
END:VTIMEZONE
BEGIN:VEVENT
DTSTART;TZID=Europe/London:20241202T100000
DTEND;TZID=Europe/London:20241202T160000
DTSTAMP:20260421T184421
CREATED:20241105T111317Z
LAST-MODIFIED:20241105T111317Z
UID:55290-1733133600-1733155200@www.abingdon.gov.uk
SUMMARY:SUNNINGWELL SCHOOL OF ART WINTER SHORT COURSES
DESCRIPTION:ONE DAY WATERCOLOUR WORKSHOP – WOOD YOU BELIEVE IT? \nSometimes\, when going for a walk\, perhaps late in the evening\, we come across pieces of wood lurking in hedgerows which could easily be mistaken for some strange creature. I have a whole box full which live with me at home.\nI will start by introducing them to you and we can draw and paint from them objectively first and then let our imaginations go\, perhaps telling a story through anthropomorphisation\, such as that of St. George and the Dragon. Many painters have illustrated the story of St George and the Dragon\, Paolo Ucello (1470)\, Raphael (1505)\, Rogier van der Weyden (1432)\, Gustave Moreau (1889) to name a few\, and dragons exist in many other cultures especially in the east where they are sometimes protective rather than threatening.\nPlease bring any medium you enjoy using which would be good for exploring the textures involved. If you are not sure\, watercolour combined with pastel and/or pen and ink would be good. And if you have a favourite piece of wood of your own\, please feel free to bring it along.
URL:https://www.abingdon.gov.uk/event/sunningwell-school-of-art-winter-short-courses
LOCATION:Sunningwell School of Art\, Old School\, Sunningwell\, OX13 6RD\, United Kingdom
CATEGORIES:Arts & Culture
ATTACH;FMTTYPE=image/jpeg:https://www.abingdon.gov.uk/wp-content/uploads/2024/11/Anthony-Wilder-Short-Course-Autumn-2024-HR-F-Copy.jpg
ORGANIZER;CN="Sunningwell School of Art":MAILTO:sunningwell@artschool.org.uk
END:VEVENT
END:VCALENDAR