BEGIN:VCALENDAR
VERSION:2.0
PRODID:-//Abingdon on Thames Town Council - ECPv6.15.18//NONSGML v1.0//EN
CALSCALE:GREGORIAN
METHOD:PUBLISH
X-WR-CALNAME:Abingdon on Thames Town Council
X-ORIGINAL-URL:https://www.abingdon.gov.uk
X-WR-CALDESC:Events for Abingdon on Thames Town Council
REFRESH-INTERVAL;VALUE=DURATION:PT1H
X-Robots-Tag:noindex
X-PUBLISHED-TTL:PT1H
BEGIN:VTIMEZONE
TZID:Europe/London
BEGIN:DAYLIGHT
TZOFFSETFROM:+0000
TZOFFSETTO:+0100
TZNAME:BST
DTSTART:20250330T010000
END:DAYLIGHT
BEGIN:STANDARD
TZOFFSETFROM:+0100
TZOFFSETTO:+0000
TZNAME:GMT
DTSTART:20251026T010000
END:STANDARD
BEGIN:DAYLIGHT
TZOFFSETFROM:+0000
TZOFFSETTO:+0100
TZNAME:BST
DTSTART:20260329T010000
END:DAYLIGHT
BEGIN:STANDARD
TZOFFSETFROM:+0100
TZOFFSETTO:+0000
TZNAME:GMT
DTSTART:20261025T010000
END:STANDARD
BEGIN:DAYLIGHT
TZOFFSETFROM:+0000
TZOFFSETTO:+0100
TZNAME:BST
DTSTART:20270328T010000
END:DAYLIGHT
BEGIN:STANDARD
TZOFFSETFROM:+0100
TZOFFSETTO:+0000
TZNAME:GMT
DTSTART:20271031T010000
END:STANDARD
END:VTIMEZONE
BEGIN:VEVENT
DTSTART;TZID=Europe/London:20260217T193000
DTEND;TZID=Europe/London:20260217T203000
DTSTAMP:20260422T100404
CREATED:20260209T105002Z
LAST-MODIFIED:20260209T105002Z
UID:82034-1771356600-1771360200@www.abingdon.gov.uk
SUMMARY:The ATOM Society: Space Sweepers Get Set to Clean the Orbital Highway
DESCRIPTION:One of the first companies in the world to focus on space sustainability\, Astroscale has been working for over a decade on developing technologies to remove space debris and enable a circular economy in space. This talk will present how they go about removing debris from Earth’s orbits and creating a safer and more sustainable space environment\, along with the latest technology and mission developments that Astroscale has been flying and working on.
URL:https://www.abingdon.gov.uk/event/the-atom-society-space-sweepers-get-set-to-clean-the-orbital-highway-2
LOCATION:Abingdon United Football Club\, Northcourt Road\, Abingdon\, OX14 1PL\, United Kingdom
ATTACH;FMTTYPE=image/jpeg:https://www.abingdon.gov.uk/wp-content/uploads/2021/05/default-crest.jpg
ORGANIZER;CN="ATOM Society":MAILTO:sec.atomsociety@gmail.com
END:VEVENT
END:VCALENDAR