BEGIN:VCALENDAR
VERSION:2.0
PRODID:-//Abingdon on Thames Town Council - ECPv6.15.18//NONSGML v1.0//EN
CALSCALE:GREGORIAN
METHOD:PUBLISH
X-WR-CALNAME:Abingdon on Thames Town Council
X-ORIGINAL-URL:https://www.abingdon.gov.uk
X-WR-CALDESC:Events for Abingdon on Thames Town Council
REFRESH-INTERVAL;VALUE=DURATION:PT1H
X-Robots-Tag:noindex
X-PUBLISHED-TTL:PT1H
BEGIN:VTIMEZONE
TZID:Europe/London
BEGIN:DAYLIGHT
TZOFFSETFROM:+0000
TZOFFSETTO:+0100
TZNAME:BST
DTSTART:20210328T010000
END:DAYLIGHT
BEGIN:STANDARD
TZOFFSETFROM:+0100
TZOFFSETTO:+0000
TZNAME:GMT
DTSTART:20211031T010000
END:STANDARD
BEGIN:DAYLIGHT
TZOFFSETFROM:+0000
TZOFFSETTO:+0100
TZNAME:BST
DTSTART:20220327T010000
END:DAYLIGHT
BEGIN:STANDARD
TZOFFSETFROM:+0100
TZOFFSETTO:+0000
TZNAME:GMT
DTSTART:20221030T010000
END:STANDARD
BEGIN:DAYLIGHT
TZOFFSETFROM:+0000
TZOFFSETTO:+0100
TZNAME:BST
DTSTART:20230326T010000
END:DAYLIGHT
BEGIN:STANDARD
TZOFFSETFROM:+0100
TZOFFSETTO:+0000
TZNAME:GMT
DTSTART:20231029T010000
END:STANDARD
END:VTIMEZONE
BEGIN:VEVENT
DTSTART;TZID=Europe/London:20220318T193000
DTEND;TZID=Europe/London:20220318T223000
DTSTAMP:20260423T135922
CREATED:20220104T094429Z
LAST-MODIFIED:20220104T094429Z
UID:18705-1647631800-1647642600@www.abingdon.gov.uk
SUMMARY:The Portraits with support from Dom Prag
DESCRIPTION:We are thrilled to bring The Portraits back to Harwell\, this time as a headline act. \nAnglo-Irish Acoustic Pop duo The Portraits\, aka husband and wife songwriters Lorraine and Jeremy Millington from Galway and Bristol respectively\, reached no 2 on the main iTunes chart\, and no 24 on the Christmas Day UK Ocial Charts Company Download Chart in December 2020 with their version of ‘Together In Electric Dreams’ featuring a locked down choir and orchestra from Somerset\, UK. It was released in memory of all those lost during the pandemic of 2020 and was featured on ITV’s This Morning\, BBC Radio 2’s Steve Wright In The Afternoon and Channel 5’s Jeremy Vine\, and received the backing of Stephen Fry\, Midge Ure\, Matt Lucas and a host of well-known figures. \nJeremy and Lorraine Millington met in 1995 when working as secondary school teachers on the Isle of Wight. Their life together has taken them to years spent in Bristol\, London and most recently\, Wells in Somerset\, following eight years soaking up the culture and lifestyle of La Rochelle in France\, where they moved in 2002 and where they were welcomed into a local community of folk singers of French\, British and Irish origin\, centred around the town’s Corrigans pub. This had a significant influence on the Millingtons\, leading them to experiment with a far more stripped back\, straightforward songwriting model\, influenced by the French storytelling ‘chanson’ style. \nSince 2006\, when they launched their first new music under the moniker The Portraits\, they have released 8 studio albums and a handful of singles\, performed numerous times at Glastonbury Festival and have donated much of their proceeds from CD sales and concerts to a school in Burma/Myanmar that they have supported for nearly 15 years. \nSupport is from up and coming Dom Prag who recorded his latest album with the help of none other than Phil Beer (Show of Hands). \nTickets start at £13 from http://www.wegottickets.com/event/515596 \nDoors and bar at 7pm\, music at 7:40pm.
URL:https://www.abingdon.gov.uk/event/the-portraits-with-support-from-dom-prag
LOCATION:Harwell Village Hall\, High Street\, Harwell\, OX11 0EX\, United Kingdom
CATEGORIES:Arts & Culture
ATTACH;FMTTYPE=image/jpeg:https://www.abingdon.gov.uk/wp-content/uploads/2022/01/credit-Neil-Juggins-and-Andy-Jennings-andelli-wells-28-sept-2019-for-our-times-launch-poster-portraits-CROP.jpg
END:VEVENT
END:VCALENDAR