BEGIN:VCALENDAR
VERSION:2.0
PRODID:-//Abingdon on Thames Town Council - ECPv6.15.18//NONSGML v1.0//EN
CALSCALE:GREGORIAN
METHOD:PUBLISH
X-WR-CALNAME:Abingdon on Thames Town Council
X-ORIGINAL-URL:https://www.abingdon.gov.uk
X-WR-CALDESC:Events for Abingdon on Thames Town Council
REFRESH-INTERVAL;VALUE=DURATION:PT1H
X-Robots-Tag:noindex
X-PUBLISHED-TTL:PT1H
BEGIN:VTIMEZONE
TZID:Europe/London
BEGIN:DAYLIGHT
TZOFFSETFROM:+0000
TZOFFSETTO:+0100
TZNAME:BST
DTSTART:20240331T010000
END:DAYLIGHT
BEGIN:STANDARD
TZOFFSETFROM:+0100
TZOFFSETTO:+0000
TZNAME:GMT
DTSTART:20241027T010000
END:STANDARD
BEGIN:DAYLIGHT
TZOFFSETFROM:+0000
TZOFFSETTO:+0100
TZNAME:BST
DTSTART:20250330T010000
END:DAYLIGHT
BEGIN:STANDARD
TZOFFSETFROM:+0100
TZOFFSETTO:+0000
TZNAME:GMT
DTSTART:20251026T010000
END:STANDARD
BEGIN:DAYLIGHT
TZOFFSETFROM:+0000
TZOFFSETTO:+0100
TZNAME:BST
DTSTART:20260329T010000
END:DAYLIGHT
BEGIN:STANDARD
TZOFFSETFROM:+0100
TZOFFSETTO:+0000
TZNAME:GMT
DTSTART:20261025T010000
END:STANDARD
END:VTIMEZONE
BEGIN:VEVENT
DTSTART;TZID=Europe/London:20250718T190000
DTEND;TZID=Europe/London:20250718T223000
DTSTAMP:20260421T005415
CREATED:20250417T074651Z
LAST-MODIFIED:20250417T074651Z
UID:61589-1752865200-1752877800@www.abingdon.gov.uk
SUMMARY:Tony Christie & Ranagri - The Great Irish Songbook Vol II Tour
DESCRIPTION:There are some\, albeit ‘misguided’ souls\, that think Tony Christie appeared out of nowhere in 2005\, to grace our TV screens and ask the way to Amarillo. Nothing could be further from the truth. Those who know better\, who appreciate his wonderful voice and his ability to get inside a song\, can tell you that over the last 50 years he has recorded a string of exceptional records. \nSo: Is This the Way to Amarillo? No! \nFifty four years after the release of his million-selling hit\, Tony Christie takes a nostalgic journey through his family’s Irish roots\, revisiting the music of his grandparents who played in ceilidh bands and sang the songs of their homeland in County Mayo\, Ireland. \nOnce again joining forces with award-winning folk band Ranagri\, they wind their way through the music of their childhoods\, the stories that crafted the musicians they are today\, and the inspirations that have brought them all together. \nEntering his 83rd year\, this collaboration brings to light aspects of Tony Christie which many won’t have ever expected: emotional and introspective. With exquisite arrangements from Ranagri – guitars\, percussion\, flutes\, dulcimer\, harps – amidst haunting melodies and lush harmonies\, many of the old traditional songs shine with new brilliance. \nMelded with musical influences from all over the world\, their new album ‘The Great Irish Songbook Volume II’ will be released later this year. Expect to sing out loud\, laugh and cry! Join these exclusive performances for an uplifting evening to remember for many years to come. \nRanagri have performed in Canada\, Portugal\, Ibiza\, Italy\, Germany\, France and all across Ireland and will be touring throughout the UK this coming Autumn. \n‘Stunningly executed’ FATEA \n‘A match made in heaven’ The Irish Post \n**** Irish World \nRanagri – Band Of The Year 2022\, Fatea Magazine \nTony Christie – Lifetime Achievement Award 2024\, Fatea Magazine \nEliza Marshall – Instrumentalist Of The Year 2024\, Fatea Magazine \nDoors and bar at 7pm\, music at 8pm
URL:https://www.abingdon.gov.uk/event/tony-christie-ranagri-the-great-irish-songbook-vol-ii-tour
LOCATION:Harwell Village Hall\, High Street\, Harwell\, OX11 0EX\, United Kingdom
CATEGORIES:Arts & Culture
ATTACH;FMTTYPE=image/jpeg:https://www.abingdon.gov.uk/wp-content/uploads/2025/04/Photo_Shoot-2512-800-x-600-scaled.jpg
END:VEVENT
END:VCALENDAR