BEGIN:VCALENDAR
VERSION:2.0
PRODID:-//Abingdon on Thames Town Council - ECPv6.15.18//NONSGML v1.0//EN
CALSCALE:GREGORIAN
METHOD:PUBLISH
X-WR-CALNAME:Abingdon on Thames Town Council
X-ORIGINAL-URL:https://www.abingdon.gov.uk
X-WR-CALDESC:Events for Abingdon on Thames Town Council
REFRESH-INTERVAL;VALUE=DURATION:PT1H
X-Robots-Tag:noindex
X-PUBLISHED-TTL:PT1H
BEGIN:VTIMEZONE
TZID:Europe/London
BEGIN:DAYLIGHT
TZOFFSETFROM:+0000
TZOFFSETTO:+0100
TZNAME:BST
DTSTART:20240331T010000
END:DAYLIGHT
BEGIN:STANDARD
TZOFFSETFROM:+0100
TZOFFSETTO:+0000
TZNAME:GMT
DTSTART:20241027T010000
END:STANDARD
BEGIN:DAYLIGHT
TZOFFSETFROM:+0000
TZOFFSETTO:+0100
TZNAME:BST
DTSTART:20250330T010000
END:DAYLIGHT
BEGIN:STANDARD
TZOFFSETFROM:+0100
TZOFFSETTO:+0000
TZNAME:GMT
DTSTART:20251026T010000
END:STANDARD
BEGIN:DAYLIGHT
TZOFFSETFROM:+0000
TZOFFSETTO:+0100
TZNAME:BST
DTSTART:20260329T010000
END:DAYLIGHT
BEGIN:STANDARD
TZOFFSETFROM:+0100
TZOFFSETTO:+0000
TZNAME:GMT
DTSTART:20261025T010000
END:STANDARD
END:VTIMEZONE
BEGIN:VEVENT
DTSTART;TZID=Europe/London:20250705T140000
DTEND;TZID=Europe/London:20250705T163000
DTSTAMP:20260420T162856
CREATED:20250527T072240Z
LAST-MODIFIED:20250527T072240Z
UID:63187-1751724000-1751733000@www.abingdon.gov.uk
SUMMARY:Traditional Village Fete in Brightwell cum Sotwell
DESCRIPTION:Enjoy everything you could possibly expect from a quintessential village event. The famous White Elephant Stall (plenty of vintage favourites and bargains)\, a Flower and Produce Show (jams\, pies\, vegetables and flowers\, plus crafts and competitions)\, use your skills at the coconut shy\, the ladder game or quoits\, and try your luck at the Bottle Tombola. There will be a huge selection of books\, wonderful children’s toys\, plus a jigsaw stall\, and the curious and unique Human Fruit Machine\, teas and cakes\, as well as a splendid silver band and plenty more. All held in the gardens of a beautiful house in the heart of the village with tennis  court and an orchard. Bring coins for pocket money and cards for everything else. The essential addition? Glorious summer sunshine. \nStreet parking only – the number 33/33A bus stops right at the fete.
URL:https://www.abingdon.gov.uk/event/traditional-village-fete-in-brightwell-cum-sotwell-2
LOCATION:Moreton House\, High Road\, Brightwell cum Sotwell\, OX10 0PT
ATTACH;FMTTYPE=image/jpeg:https://www.abingdon.gov.uk/wp-content/uploads/2025/05/Brightwell-village-fete-Pimms-2.jpg
ORGANIZER;CN="Brightwell cum Sotwell Community Association":MAILTO:bcscommunityassoc@gmail.com
END:VEVENT
END:VCALENDAR