BEGIN:VCALENDAR
VERSION:2.0
PRODID:-//Abingdon on Thames Town Council - ECPv6.15.18//NONSGML v1.0//EN
CALSCALE:GREGORIAN
METHOD:PUBLISH
X-WR-CALNAME:Abingdon on Thames Town Council
X-ORIGINAL-URL:https://www.abingdon.gov.uk
X-WR-CALDESC:Events for Abingdon on Thames Town Council
REFRESH-INTERVAL;VALUE=DURATION:PT1H
X-Robots-Tag:noindex
X-PUBLISHED-TTL:PT1H
BEGIN:VTIMEZONE
TZID:Europe/London
BEGIN:DAYLIGHT
TZOFFSETFROM:+0000
TZOFFSETTO:+0100
TZNAME:BST
DTSTART:20230326T010000
END:DAYLIGHT
BEGIN:STANDARD
TZOFFSETFROM:+0100
TZOFFSETTO:+0000
TZNAME:GMT
DTSTART:20231029T010000
END:STANDARD
BEGIN:DAYLIGHT
TZOFFSETFROM:+0000
TZOFFSETTO:+0100
TZNAME:BST
DTSTART:20240331T010000
END:DAYLIGHT
BEGIN:STANDARD
TZOFFSETFROM:+0100
TZOFFSETTO:+0000
TZNAME:GMT
DTSTART:20241027T010000
END:STANDARD
BEGIN:DAYLIGHT
TZOFFSETFROM:+0000
TZOFFSETTO:+0100
TZNAME:BST
DTSTART:20250330T010000
END:DAYLIGHT
BEGIN:STANDARD
TZOFFSETFROM:+0100
TZOFFSETTO:+0000
TZNAME:GMT
DTSTART:20251026T010000
END:STANDARD
END:VTIMEZONE
BEGIN:VEVENT
DTSTART;TZID=Europe/London:20240307T190000
DTEND;TZID=Europe/London:20240307T223000
DTSTAMP:20260423T052925
CREATED:20231120T164029Z
LAST-MODIFIED:20231120T164029Z
UID:43647-1709838000-1709850600@www.abingdon.gov.uk
SUMMARY:Tu-kay & Ryan with support from HogersWolf
DESCRIPTION:We are pleased to welcome Tukay & Ryan to The Unicorn Theatre. \nTu-kay & Ryan are a multi-award winning acoustic duo blurring the lines between folk\, Americana and roots music. They are known for lush harmonies and heartfelt lyrics in songs that encourage a positive outlook on life\, even when things may be tough. They are optimists at heart and believe there is always a light at the end of the tunnel\, no matter how small or distant it may seem. \nSupport will be from local artist HogersWolf\, aka Andy Hogger.
URL:https://www.abingdon.gov.uk/event/tu-kay-ryan-with-support-from-hogerswolf
LOCATION:Unicorn Theatre\, Thames Street\, Abingdon\, Thames Street\, Abingdon\, OX14 3HZ\, United Kingdom
CATEGORIES:Arts & Culture
ATTACH;FMTTYPE=image/jpeg:https://www.abingdon.gov.uk/wp-content/uploads/2023/11/gavin_wallace_0.jpg
ORGANIZER;CN="Music At The Unicorn":MAILTO:info@musicattheunicorn.org.uk
END:VEVENT
END:VCALENDAR