BEGIN:VCALENDAR
VERSION:2.0
PRODID:-//Abingdon on Thames Town Council - ECPv6.15.18//NONSGML v1.0//EN
CALSCALE:GREGORIAN
METHOD:PUBLISH
X-WR-CALNAME:Abingdon on Thames Town Council
X-ORIGINAL-URL:https://www.abingdon.gov.uk
X-WR-CALDESC:Events for Abingdon on Thames Town Council
REFRESH-INTERVAL;VALUE=DURATION:PT1H
X-Robots-Tag:noindex
X-PUBLISHED-TTL:PT1H
BEGIN:VTIMEZONE
TZID:Europe/London
BEGIN:DAYLIGHT
TZOFFSETFROM:+0000
TZOFFSETTO:+0100
TZNAME:BST
DTSTART:20210328T010000
END:DAYLIGHT
BEGIN:STANDARD
TZOFFSETFROM:+0100
TZOFFSETTO:+0000
TZNAME:GMT
DTSTART:20211031T010000
END:STANDARD
BEGIN:DAYLIGHT
TZOFFSETFROM:+0000
TZOFFSETTO:+0100
TZNAME:BST
DTSTART:20220327T010000
END:DAYLIGHT
BEGIN:STANDARD
TZOFFSETFROM:+0100
TZOFFSETTO:+0000
TZNAME:GMT
DTSTART:20221030T010000
END:STANDARD
BEGIN:DAYLIGHT
TZOFFSETFROM:+0000
TZOFFSETTO:+0100
TZNAME:BST
DTSTART:20230326T010000
END:DAYLIGHT
BEGIN:STANDARD
TZOFFSETFROM:+0100
TZOFFSETTO:+0000
TZNAME:GMT
DTSTART:20231029T010000
END:STANDARD
END:VTIMEZONE
BEGIN:VEVENT
DTSTART;TZID=Europe/London:20220219T103000
DTEND;TZID=Europe/London:20220219T123000
DTSTAMP:20260423T165551
CREATED:20220208T105029Z
LAST-MODIFIED:20220208T105029Z
UID:19156-1645266600-1645273800@www.abingdon.gov.uk
SUMMARY:Walk and Talk along the Ock Valley
DESCRIPTION:A short walk from Abingdon Museum starting at 10.30am and ending with refreshments at the Climate Emergency Centre around midday. \nBring stout footwear as it can be muddy and dress warmly. \nEveryone is welcome and we hope to chat about climate related topics while enjoying being outside. \nHidden just a few footsteps away from the hustle and bustle of the town centre is the Ock Valley Walk. Under a woodland canopy that follows the meandering waters of the River Ock and Sandford Brook\, this alternative route into town offers a tranquil walk where Muntjac deer\, foxes\, carp and\, if luck is on your side\, even kingfishers can be spotted. Bats will still be hibernating. With several benches along the route\, it’s a perfect location to escape. After all\, research shows that spending regular time in woodland significantly improves our health and mental wellbeing. So why not take some time to explore this hidden gem that can be accessed from St Helen’s Court\, behind West St Helens Car Park.
URL:https://www.abingdon.gov.uk/event/walk-and-talk-along-the-ock-valley
LOCATION:One Planet Abingdon\, Climate Emergency Centre\, under the County Hall\, Market Place\, Abingdon\, Oxon\, OX14 3HG\, United Kingdom
ATTACH;FMTTYPE=image/png:https://www.abingdon.gov.uk/wp-content/uploads/2022/02/SAINT-ETHELWOLDS-1.png
ORGANIZER;CN="One Planet Abingdon":MAILTO:contact@oneplanetabingdon.org
END:VEVENT
END:VCALENDAR