BEGIN:VCALENDAR
VERSION:2.0
PRODID:-//Abingdon on Thames Town Council - ECPv6.15.18//NONSGML v1.0//EN
CALSCALE:GREGORIAN
METHOD:PUBLISH
X-WR-CALNAME:Abingdon on Thames Town Council
X-ORIGINAL-URL:https://www.abingdon.gov.uk
X-WR-CALDESC:Events for Abingdon on Thames Town Council
REFRESH-INTERVAL;VALUE=DURATION:PT1H
X-Robots-Tag:noindex
X-PUBLISHED-TTL:PT1H
BEGIN:VTIMEZONE
TZID:Europe/London
BEGIN:DAYLIGHT
TZOFFSETFROM:+0000
TZOFFSETTO:+0100
TZNAME:BST
DTSTART:20230326T010000
END:DAYLIGHT
BEGIN:STANDARD
TZOFFSETFROM:+0100
TZOFFSETTO:+0000
TZNAME:GMT
DTSTART:20231029T010000
END:STANDARD
BEGIN:DAYLIGHT
TZOFFSETFROM:+0000
TZOFFSETTO:+0100
TZNAME:BST
DTSTART:20240331T010000
END:DAYLIGHT
BEGIN:STANDARD
TZOFFSETFROM:+0100
TZOFFSETTO:+0000
TZNAME:GMT
DTSTART:20241027T010000
END:STANDARD
BEGIN:DAYLIGHT
TZOFFSETFROM:+0000
TZOFFSETTO:+0100
TZNAME:BST
DTSTART:20250330T010000
END:DAYLIGHT
BEGIN:STANDARD
TZOFFSETFROM:+0100
TZOFFSETTO:+0000
TZNAME:GMT
DTSTART:20251026T010000
END:STANDARD
END:VTIMEZONE
BEGIN:VEVENT
DTSTART;TZID=Europe/London:20240706T190000
DTEND;TZID=Europe/London:20240706T210000
DTSTAMP:20260423T023906
CREATED:20240513T084742Z
LAST-MODIFIED:20240513T084742Z
UID:49122-1720292400-1720299600@www.abingdon.gov.uk
SUMMARY:Wantage Academy Brass & Wantage Youth Brass Concert
DESCRIPTION:On Saturday 6 July\, at 7 pm  ACADEMY BRASS AND WANTAGE YOUTH BRASS BANDS are returning to St Michael & All Angels’ Church\, Park Road\, Abingdon OX14 1DS for another fabulous concert. Proceeds from the concert are to be shared with The Abingdon Bridge\, TARIRO – Hope for Youth in Zimbabwe\, and St Michael’s Church. Tickets can be purchased in advance from https://www.trybooking.com/uk/DKYX   Adults £12\, concessions £10 (plus 15p booking fee per ticket)\, age 16 & under free. Tickets will also be available on the door by cash/credit card payment. Refreshments available and free parking. A concert not to be missed!
URL:https://www.abingdon.gov.uk/event/wantage-academy-brass-wantage-youth-brass-concert
LOCATION:St Michael and All Angels’ Church\, Abingdon\, Park Road\, Abingdon\, OX14 1DS\, United Kingdom
CATEGORIES:Amenities and Recreation
ATTACH;FMTTYPE=image/jpeg:https://www.abingdon.gov.uk/wp-content/uploads/2024/05/duce_wab_poster_2024_a6_actual-1.jpg
ORGANIZER;CN="St Michael and All Angels' Church":MAILTO:lheff@stmichaels-abingdon.org.uk
END:VEVENT
END:VCALENDAR