BEGIN:VCALENDAR
VERSION:2.0
PRODID:-//Abingdon on Thames Town Council - ECPv6.15.18//NONSGML v1.0//EN
CALSCALE:GREGORIAN
METHOD:PUBLISH
X-WR-CALNAME:Abingdon on Thames Town Council
X-ORIGINAL-URL:https://www.abingdon.gov.uk
X-WR-CALDESC:Events for Abingdon on Thames Town Council
REFRESH-INTERVAL;VALUE=DURATION:PT1H
X-Robots-Tag:noindex
X-PUBLISHED-TTL:PT1H
BEGIN:VTIMEZONE
TZID:Europe/London
BEGIN:DAYLIGHT
TZOFFSETFROM:+0000
TZOFFSETTO:+0100
TZNAME:BST
DTSTART:20250330T010000
END:DAYLIGHT
BEGIN:STANDARD
TZOFFSETFROM:+0100
TZOFFSETTO:+0000
TZNAME:GMT
DTSTART:20251026T010000
END:STANDARD
BEGIN:DAYLIGHT
TZOFFSETFROM:+0000
TZOFFSETTO:+0100
TZNAME:BST
DTSTART:20260329T010000
END:DAYLIGHT
BEGIN:STANDARD
TZOFFSETFROM:+0100
TZOFFSETTO:+0000
TZNAME:GMT
DTSTART:20261025T010000
END:STANDARD
BEGIN:DAYLIGHT
TZOFFSETFROM:+0000
TZOFFSETTO:+0100
TZNAME:BST
DTSTART:20270328T010000
END:DAYLIGHT
BEGIN:STANDARD
TZOFFSETFROM:+0100
TZOFFSETTO:+0000
TZNAME:GMT
DTSTART:20271031T010000
END:STANDARD
END:VTIMEZONE
BEGIN:VEVENT
DTSTART;TZID=Europe/London:20260214T100000
DTEND;TZID=Europe/London:20260426T160000
DTSTAMP:20260422T014128
CREATED:20260213T142145Z
LAST-MODIFIED:20260213T142145Z
UID:10016820-1771063200-1777219200@www.abingdon.gov.uk
SUMMARY:Exhibition: 'Text & Texture' - the artworks of Pat Russell and Janet Boulton
DESCRIPTION:Pat Russell and Janet Boulton were both acclaimed artists who lived in Abingdon for many years. \nIn 1986\, they both attended a paper making workshop at Oxford Polytechnic (later Oxford Brookes University). Inspired by the possibilities of this medium\, they decided to set up their own paper making studio and start creating art using paper pulp. The works on display are now a part of the Museum’s permanent collection and range from photographic documentary of Janet’s garden installation art featuring text\, paper pulp works and embroidery. \nLocation: Attic Gallery 14 February to 26 April 2026 \nFREE Admission  \n\nHere are some video on vimeo featuring some of their work. \nForeground Background – A Day in Janet Boulton’s Garden  \nJanet Boulton. Working with Watercolour – A Seeming Diversity \nJanet Boulton. The artist & gardener
URL:https://www.abingdon.gov.uk/event/exhibition-text-texture-the-artworks-of-pat-russell-and-janet-boulton
LOCATION:Abingdon County Hall Museum
CATEGORIES:Abingdon County Hall Museum,Arts & Culture,County Hall Museum,Heritage,Market Place,Sports & Leisure
ATTACH;FMTTYPE=image/jpeg:https://www.abingdon.gov.uk/wp-content/uploads/2026/02/A-quiet-space-SOC-MED.jpg
END:VEVENT
BEGIN:VEVENT
DTSTART;TZID=Europe/London:20260216T190000
DTEND;TZID=Europe/London:20260525T190000
DTSTAMP:20260422T014128
CREATED:20230214T120638Z
LAST-MODIFIED:20230214T120638Z
UID:10014357-1771268400-1779735600@www.abingdon.gov.uk
SUMMARY:Muay Thai
DESCRIPTION:Thai boxing – Fitness\, Self Defence\, Ring sports. And much more.
URL:https://www.abingdon.gov.uk/event/muay-thai/2026-02-16
LOCATION:Tilsley Park\, Dunmore Road\, Abingdon\, OX14 1PU\, United Kingdom
CATEGORIES:Sports & Leisure
ATTACH;FMTTYPE=image/jpeg:https://www.abingdon.gov.uk/wp-content/uploads/2023/02/MSA-Oxford-poster.jpg
END:VEVENT
BEGIN:VEVENT
DTSTART;TZID=Europe/London:20260330T190000
DTEND;TZID=Europe/London:20260706T190000
DTSTAMP:20260422T014128
CREATED:20230214T120638Z
LAST-MODIFIED:20230214T120638Z
UID:10014358-1774897200-1783364400@www.abingdon.gov.uk
SUMMARY:Muay Thai
DESCRIPTION:Thai boxing – Fitness\, Self Defence\, Ring sports. And much more.
URL:https://www.abingdon.gov.uk/event/muay-thai/2026-03-30
LOCATION:Tilsley Park\, Dunmore Road\, Abingdon\, OX14 1PU\, United Kingdom
CATEGORIES:Sports & Leisure
ATTACH;FMTTYPE=image/jpeg:https://www.abingdon.gov.uk/wp-content/uploads/2023/02/MSA-Oxford-poster.jpg
END:VEVENT
BEGIN:VEVENT
DTSTART;TZID=Europe/London:20260404T100000
DTEND;TZID=Europe/London:20260628T160000
DTSTAMP:20260422T014128
CREATED:20260321T113804Z
LAST-MODIFIED:20260321T113804Z
UID:10017245-1775296800-1782662400@www.abingdon.gov.uk
SUMMARY:Exhibition - MGA 70
DESCRIPTION:Celebrating the 70th Anniversary of the MGA\, one of the most successful MG models\, this exhibition looks at the development of the design\, the influence of speed-record breakers and experimental prototypes\, and it shines a spotlight on Syd Enever\, the ‘father’ of the MGA. \nWith memories of the MG factory still present in the town\, we hope that this will be another MG story of interest to local people and to MG enthusiasts who visit us from around the world. TO bring the story to life we will display MGA-related artefacts courtesy of the MG Car Club as well as the Museum’s collection of MG models through the ages\, from the very beginning to the 21st century. \nThe MGA exhibit will run at Abingdon Museum until the end of June 2026. Be sure not to miss it!
URL:https://www.abingdon.gov.uk/event/exhibition-mga-70
LOCATION:Abingdon County Hall Museum
CATEGORIES:Abingdon County Hall Museum,Arts & Culture,County Hall Museum,Heritage,Market Place,Sports & Leisure
ATTACH;FMTTYPE=image/jpeg:https://www.abingdon.gov.uk/wp-content/uploads/2026/03/MGA70-soc-media-advert.jpg
END:VEVENT
BEGIN:VEVENT
DTSTART;TZID=Europe/London:20260422T100000
DTEND;TZID=Europe/London:20260422T120000
DTSTAMP:20260422T014128
CREATED:20250924T110631Z
LAST-MODIFIED:20250924T110631Z
UID:10012976-1776852000-1776859200@www.abingdon.gov.uk
SUMMARY:COFFEE MORNING (Weekly in Drayton)
DESCRIPTION:Community coffee morning – to raise funds for village hall and other good causes.  Tea\, coffee\, cake (or 3?!) maybe even a bacon sarnie?!  Running weekly now on Weds mornings.
URL:https://www.abingdon.gov.uk/event/coffee-morning-weekly-in-drayton/2026-04-22
LOCATION:Drayton Village Hall\, Lockway\, Drayton\, OX14 4LF\, United Kingdom
ATTACH;FMTTYPE=image/jpeg:https://www.abingdon.gov.uk/wp-content/uploads/2025/09/Coffee-Morning-pic-3.jpg
ORGANIZER;CN="Kathy Head":MAILTO:kathy.head@ntlworld.com
END:VEVENT
BEGIN:VEVENT
DTSTART;TZID=Europe/London:20260422T100000
DTEND;TZID=Europe/London:20260422T120000
DTSTAMP:20260422T014128
CREATED:20251008T102704Z
LAST-MODIFIED:20251008T102704Z
UID:10015900-1776852000-1776859200@www.abingdon.gov.uk
SUMMARY:'good Cause' Coffee Morning (Drayton)
DESCRIPTION:Coffee and cake\, or tea and a bacon sarnie if you prefer\, and all for a good cause!        Good parking\, free wi-fi.    Every Weds morning (but check local F’book for any exceptions) – in Drayton Village Hall\, Lockway\, OX14 4LF
URL:https://www.abingdon.gov.uk/event/good-cause-coffee-morning-drayton/2026-04-22
LOCATION:Drayton Village Hall\, Lockway\, Drayton\, OX14 4LF\, United Kingdom
ATTACH;FMTTYPE=image/jpeg:https://www.abingdon.gov.uk/wp-content/uploads/2025/10/Hall-Coffee-morn-2509.jpg
ORGANIZER;CN="Kathy Head":MAILTO:kathy.head@ntlworld.com
END:VEVENT
END:VCALENDAR