BEGIN:VCALENDAR
VERSION:2.0
PRODID:-//Abingdon on Thames Town Council - ECPv6.15.18//NONSGML v1.0//EN
CALSCALE:GREGORIAN
METHOD:PUBLISH
X-ORIGINAL-URL:https://www.abingdon.gov.uk
X-WR-CALDESC:Events for Abingdon on Thames Town Council
REFRESH-INTERVAL;VALUE=DURATION:PT1H
X-Robots-Tag:noindex
X-PUBLISHED-TTL:PT1H
BEGIN:VTIMEZONE
TZID:Europe/London
BEGIN:DAYLIGHT
TZOFFSETFROM:+0000
TZOFFSETTO:+0100
TZNAME:BST
DTSTART:20240331T010000
END:DAYLIGHT
BEGIN:STANDARD
TZOFFSETFROM:+0100
TZOFFSETTO:+0000
TZNAME:GMT
DTSTART:20241027T010000
END:STANDARD
BEGIN:DAYLIGHT
TZOFFSETFROM:+0000
TZOFFSETTO:+0100
TZNAME:BST
DTSTART:20250330T010000
END:DAYLIGHT
BEGIN:STANDARD
TZOFFSETFROM:+0100
TZOFFSETTO:+0000
TZNAME:GMT
DTSTART:20251026T010000
END:STANDARD
BEGIN:DAYLIGHT
TZOFFSETFROM:+0000
TZOFFSETTO:+0100
TZNAME:BST
DTSTART:20260329T010000
END:DAYLIGHT
BEGIN:STANDARD
TZOFFSETFROM:+0100
TZOFFSETTO:+0000
TZNAME:GMT
DTSTART:20261025T010000
END:STANDARD
BEGIN:DAYLIGHT
TZOFFSETFROM:+0000
TZOFFSETTO:+0100
TZNAME:BST
DTSTART:20270328T010000
END:DAYLIGHT
BEGIN:STANDARD
TZOFFSETFROM:+0100
TZOFFSETTO:+0000
TZNAME:GMT
DTSTART:20271031T010000
END:STANDARD
END:VTIMEZONE
BEGIN:VEVENT
DTSTART;TZID=Europe/London:20260228T110000
DTEND;TZID=Europe/London:20260228T120000
DTSTAMP:20260422T140946
CREATED:20260126T082146Z
LAST-MODIFIED:20260126T082146Z
UID:10016388-1772276400-1772280000@www.abingdon.gov.uk
SUMMARY:Author talk with Jim Donahue
DESCRIPTION:Join us for a conversation with author and photographer Jim Donahue\, where he’ll speak about his book The Thames Valley: Past\, Present\, and Future–A Snapshot of English Life\, as well as share photographs he’s taken of the area. There will be a Q&A session as well as an opportunity to buy a signed copy of his book. Free tickets available from Abingdon Library\, by calling 01865 815005 or email abingdon.library@oxfordshire.gov.uk
URL:https://www.abingdon.gov.uk/event/author-talk-with-jim-donahue
LOCATION:Abingdon Library\, The Charter\, Abingdon\, OX14 3LY\, United Kingdom
ATTACH;FMTTYPE=image/jpeg:https://www.abingdon.gov.uk/wp-content/uploads/2026/01/Jim-Donahue-v2-3.jpg
ORGANIZER;CN="Abingdon Library":MAILTO:abingdon.library@oxfordshire.gov.uk
END:VEVENT
BEGIN:VEVENT
DTSTART;TZID=Europe/London:20260219T113000
DTEND;TZID=Europe/London:20260219T123000
DTSTAMP:20260422T140946
CREATED:20260127T161911Z
LAST-MODIFIED:20260127T161911Z
UID:10016396-1771500600-1771504200@www.abingdon.gov.uk
SUMMARY:Free Explore Learning Maths Pop-Up
DESCRIPTION:Free half-term activity alert! On Thursday 19th Feb at 11:30am\, Explore Learning will be here to run another of their brilliant workshops\, this time focusing on maths skills for 4-11 year-olds. These sessions are great for making maths fun and children will learn about fractions using cake and apply shapes knowledge to design a super hero\, and more. This is a drop-in session\, no need to book just come along and meet the Explore Learning team.
URL:https://www.abingdon.gov.uk/event/free-explore-learning-maths-pop-up
LOCATION:Abingdon Library\, The Charter\, Abingdon\, OX14 3LY\, United Kingdom
ATTACH;FMTTYPE=image/jpeg:https://www.abingdon.gov.uk/wp-content/uploads/2026/01/Explore-Learning-Maths-pop-up.jpg
ORGANIZER;CN="Abingdon Library":MAILTO:abingdon.library@oxfordshire.gov.uk
END:VEVENT
BEGIN:VEVENT
DTSTART;TZID=Europe/London:20260218T133000
DTEND;TZID=Europe/London:20260218T143000
DTSTAMP:20260422T140946
CREATED:20260209T121525Z
LAST-MODIFIED:20260209T121525Z
UID:10016796-1771421400-1771425000@www.abingdon.gov.uk
SUMMARY:Special story time and drawing fun with Bethan Woollvin
DESCRIPTION:We are delighted that fantastic children’s author and illustrator Bethan Woollvin will be joining us on Wednesday 18th February at 1:30pm to hold a special story time and drawing session. Mostly Books will also be providing copies of Bethan’s books for purchase and signing at the end. Age-range 5+. Tickets for this free\, half-term event are available from the library\, or you can call us on 01865 815005 or email us on abingdon.library@oxfordshire.gov.uk
URL:https://www.abingdon.gov.uk/event/special-story-time-and-drawing-fun-with-bethan-woollvin
LOCATION:Abingdon Library\, The Charter\, Abingdon\, OX14 3LY\, United Kingdom
ATTACH;FMTTYPE=image/jpeg:https://www.abingdon.gov.uk/wp-content/uploads/2026/02/Bethan-Woollvin-poster-Facebook-Post-Square.jpg
ORGANIZER;CN="Abingdon Library":MAILTO:abingdon.library@oxfordshire.gov.uk
END:VEVENT
BEGIN:VEVENT
DTSTART;TZID=Europe/London:20251220T143000
DTEND;TZID=Europe/London:20251220T150000
DTSTAMP:20260422T140946
CREATED:20250901T074009Z
LAST-MODIFIED:20250923T100340Z
UID:10015807-1766241000-1766242800@www.abingdon.gov.uk
SUMMARY:Story Time at Abingdon Library
DESCRIPTION:At Abingdon Library we hold a fabulous story time every Saturday afternoon – no need to book\, just come along!
URL:https://www.abingdon.gov.uk/event/story-time-at-abingdon-library/2025-12-20
LOCATION:Abingdon Library\, The Charter\, Abingdon\, OX14 3LY\, United Kingdom
ATTACH;FMTTYPE=image/jpeg:https://www.abingdon.gov.uk/wp-content/uploads/2025/08/Library-Story-Time-Instagram-and-Facebook.jpg
ORGANIZER;CN="Abingdon Library":MAILTO:abingdon.library@oxfordshire.gov.uk
END:VEVENT
BEGIN:VEVENT
DTSTART;TZID=Europe/London:20251213T143000
DTEND;TZID=Europe/London:20251213T150000
DTSTAMP:20260422T140946
CREATED:20250901T074009Z
LAST-MODIFIED:20250923T100340Z
UID:10015806-1765636200-1765638000@www.abingdon.gov.uk
SUMMARY:Story Time at Abingdon Library
DESCRIPTION:At Abingdon Library we hold a fabulous story time every Saturday afternoon – no need to book\, just come along!
URL:https://www.abingdon.gov.uk/event/story-time-at-abingdon-library/2025-12-13
LOCATION:Abingdon Library\, The Charter\, Abingdon\, OX14 3LY\, United Kingdom
ATTACH;FMTTYPE=image/jpeg:https://www.abingdon.gov.uk/wp-content/uploads/2025/08/Library-Story-Time-Instagram-and-Facebook.jpg
ORGANIZER;CN="Abingdon Library":MAILTO:abingdon.library@oxfordshire.gov.uk
END:VEVENT
BEGIN:VEVENT
DTSTART;TZID=Europe/London:20251206T143000
DTEND;TZID=Europe/London:20251206T150000
DTSTAMP:20260422T140946
CREATED:20250901T074009Z
LAST-MODIFIED:20250923T100340Z
UID:10015805-1765031400-1765033200@www.abingdon.gov.uk
SUMMARY:Story Time at Abingdon Library
DESCRIPTION:At Abingdon Library we hold a fabulous story time every Saturday afternoon – no need to book\, just come along!
URL:https://www.abingdon.gov.uk/event/story-time-at-abingdon-library/2025-12-06
LOCATION:Abingdon Library\, The Charter\, Abingdon\, OX14 3LY\, United Kingdom
ATTACH;FMTTYPE=image/jpeg:https://www.abingdon.gov.uk/wp-content/uploads/2025/08/Library-Story-Time-Instagram-and-Facebook.jpg
ORGANIZER;CN="Abingdon Library":MAILTO:abingdon.library@oxfordshire.gov.uk
END:VEVENT
BEGIN:VEVENT
DTSTART;TZID=Europe/London:20251129T143000
DTEND;TZID=Europe/London:20251129T150000
DTSTAMP:20260422T140946
CREATED:20250901T074009Z
LAST-MODIFIED:20250923T100340Z
UID:10015804-1764426600-1764428400@www.abingdon.gov.uk
SUMMARY:Story Time at Abingdon Library
DESCRIPTION:At Abingdon Library we hold a fabulous story time every Saturday afternoon – no need to book\, just come along!
URL:https://www.abingdon.gov.uk/event/story-time-at-abingdon-library/2025-11-29
LOCATION:Abingdon Library\, The Charter\, Abingdon\, OX14 3LY\, United Kingdom
ATTACH;FMTTYPE=image/jpeg:https://www.abingdon.gov.uk/wp-content/uploads/2025/08/Library-Story-Time-Instagram-and-Facebook.jpg
ORGANIZER;CN="Abingdon Library":MAILTO:abingdon.library@oxfordshire.gov.uk
END:VEVENT
BEGIN:VEVENT
DTSTART;TZID=Europe/London:20251122T143000
DTEND;TZID=Europe/London:20251122T150000
DTSTAMP:20260422T140946
CREATED:20250901T074009Z
LAST-MODIFIED:20250923T100340Z
UID:10015803-1763821800-1763823600@www.abingdon.gov.uk
SUMMARY:Story Time at Abingdon Library
DESCRIPTION:At Abingdon Library we hold a fabulous story time every Saturday afternoon – no need to book\, just come along!
URL:https://www.abingdon.gov.uk/event/story-time-at-abingdon-library/2025-11-22
LOCATION:Abingdon Library\, The Charter\, Abingdon\, OX14 3LY\, United Kingdom
ATTACH;FMTTYPE=image/jpeg:https://www.abingdon.gov.uk/wp-content/uploads/2025/08/Library-Story-Time-Instagram-and-Facebook.jpg
ORGANIZER;CN="Abingdon Library":MAILTO:abingdon.library@oxfordshire.gov.uk
END:VEVENT
BEGIN:VEVENT
DTSTART;TZID=Europe/London:20251115T143000
DTEND;TZID=Europe/London:20251115T150000
DTSTAMP:20260422T140946
CREATED:20250901T074009Z
LAST-MODIFIED:20250923T100340Z
UID:10015802-1763217000-1763218800@www.abingdon.gov.uk
SUMMARY:Story Time at Abingdon Library
DESCRIPTION:At Abingdon Library we hold a fabulous story time every Saturday afternoon – no need to book\, just come along!
URL:https://www.abingdon.gov.uk/event/story-time-at-abingdon-library/2025-11-15
LOCATION:Abingdon Library\, The Charter\, Abingdon\, OX14 3LY\, United Kingdom
ATTACH;FMTTYPE=image/jpeg:https://www.abingdon.gov.uk/wp-content/uploads/2025/08/Library-Story-Time-Instagram-and-Facebook.jpg
ORGANIZER;CN="Abingdon Library":MAILTO:abingdon.library@oxfordshire.gov.uk
END:VEVENT
BEGIN:VEVENT
DTSTART;TZID=Europe/London:20251108T143000
DTEND;TZID=Europe/London:20251108T150000
DTSTAMP:20260422T140946
CREATED:20250901T074009Z
LAST-MODIFIED:20250923T100340Z
UID:10015801-1762612200-1762614000@www.abingdon.gov.uk
SUMMARY:Story Time at Abingdon Library
DESCRIPTION:At Abingdon Library we hold a fabulous story time every Saturday afternoon – no need to book\, just come along!
URL:https://www.abingdon.gov.uk/event/story-time-at-abingdon-library/2025-11-08
LOCATION:Abingdon Library\, The Charter\, Abingdon\, OX14 3LY\, United Kingdom
ATTACH;FMTTYPE=image/jpeg:https://www.abingdon.gov.uk/wp-content/uploads/2025/08/Library-Story-Time-Instagram-and-Facebook.jpg
ORGANIZER;CN="Abingdon Library":MAILTO:abingdon.library@oxfordshire.gov.uk
END:VEVENT
BEGIN:VEVENT
DTSTART;TZID=Europe/London:20251101T143000
DTEND;TZID=Europe/London:20251101T150000
DTSTAMP:20260422T140946
CREATED:20250901T074009Z
LAST-MODIFIED:20250923T100340Z
UID:10015800-1762007400-1762009200@www.abingdon.gov.uk
SUMMARY:Story Time at Abingdon Library
DESCRIPTION:At Abingdon Library we hold a fabulous story time every Saturday afternoon – no need to book\, just come along!
URL:https://www.abingdon.gov.uk/event/story-time-at-abingdon-library/2025-11-01
LOCATION:Abingdon Library\, The Charter\, Abingdon\, OX14 3LY\, United Kingdom
ATTACH;FMTTYPE=image/jpeg:https://www.abingdon.gov.uk/wp-content/uploads/2025/08/Library-Story-Time-Instagram-and-Facebook.jpg
ORGANIZER;CN="Abingdon Library":MAILTO:abingdon.library@oxfordshire.gov.uk
END:VEVENT
BEGIN:VEVENT
DTSTART;TZID=Europe/London:20251025T143000
DTEND;TZID=Europe/London:20251025T150000
DTSTAMP:20260422T140946
CREATED:20250901T074009Z
LAST-MODIFIED:20250923T100340Z
UID:10015799-1761402600-1761404400@www.abingdon.gov.uk
SUMMARY:Story Time at Abingdon Library
DESCRIPTION:At Abingdon Library we hold a fabulous story time every Saturday afternoon – no need to book\, just come along!
URL:https://www.abingdon.gov.uk/event/story-time-at-abingdon-library/2025-10-25
LOCATION:Abingdon Library\, The Charter\, Abingdon\, OX14 3LY\, United Kingdom
ATTACH;FMTTYPE=image/jpeg:https://www.abingdon.gov.uk/wp-content/uploads/2025/08/Library-Story-Time-Instagram-and-Facebook.jpg
ORGANIZER;CN="Abingdon Library":MAILTO:abingdon.library@oxfordshire.gov.uk
END:VEVENT
BEGIN:VEVENT
DTSTART;TZID=Europe/London:20251025T140000
DTEND;TZID=Europe/London:20251025T150000
DTSTAMP:20260422T140946
CREATED:20251021T134340Z
LAST-MODIFIED:20251021T134340Z
UID:10016208-1761400800-1761404400@www.abingdon.gov.uk
SUMMARY:Sweet Zombie Horse - Music and stories at the Library
DESCRIPTION:Little is known about the origins of `The Sweet Zombie Horse`. What we do know is that she is a magical being that moves effortlessly between universes and dimensions. Back by popular demand! Come and meet the Sweet Zombie Horse at a free showing at the library on Saturday 25th October at 2pm. Book your tickets at the library counter or call us on 01865 815005 https://sweetzombiehorse.com/
URL:https://www.abingdon.gov.uk/event/sweet-zombie-horse-music-and-stories-at-the-library
LOCATION:Abingdon Library\, The Charter\, Abingdon\, OX14 3LY\, United Kingdom
ATTACH;FMTTYPE=image/jpeg:https://www.abingdon.gov.uk/wp-content/uploads/2025/10/Sweet-Zombie-Horse-FB-1.jpg
ORGANIZER;CN="Abingdon Library":MAILTO:abingdon.library@oxfordshire.gov.uk
END:VEVENT
BEGIN:VEVENT
DTSTART;TZID=Europe/London:20251018T143000
DTEND;TZID=Europe/London:20251018T150000
DTSTAMP:20260422T140946
CREATED:20250901T074009Z
LAST-MODIFIED:20250923T100340Z
UID:10015798-1760797800-1760799600@www.abingdon.gov.uk
SUMMARY:Story Time at Abingdon Library
DESCRIPTION:At Abingdon Library we hold a fabulous story time every Saturday afternoon – no need to book\, just come along!
URL:https://www.abingdon.gov.uk/event/story-time-at-abingdon-library/2025-10-18
LOCATION:Abingdon Library\, The Charter\, Abingdon\, OX14 3LY\, United Kingdom
ATTACH;FMTTYPE=image/jpeg:https://www.abingdon.gov.uk/wp-content/uploads/2025/08/Library-Story-Time-Instagram-and-Facebook.jpg
ORGANIZER;CN="Abingdon Library":MAILTO:abingdon.library@oxfordshire.gov.uk
END:VEVENT
BEGIN:VEVENT
DTSTART;TZID=Europe/London:20251011T143000
DTEND;TZID=Europe/London:20251011T150000
DTSTAMP:20260422T140946
CREATED:20250901T074009Z
LAST-MODIFIED:20250923T100340Z
UID:10015797-1760193000-1760194800@www.abingdon.gov.uk
SUMMARY:Story Time at Abingdon Library
DESCRIPTION:At Abingdon Library we hold a fabulous story time every Saturday afternoon – no need to book\, just come along!
URL:https://www.abingdon.gov.uk/event/story-time-at-abingdon-library/2025-10-11
LOCATION:Abingdon Library\, The Charter\, Abingdon\, OX14 3LY\, United Kingdom
ATTACH;FMTTYPE=image/jpeg:https://www.abingdon.gov.uk/wp-content/uploads/2025/08/Library-Story-Time-Instagram-and-Facebook.jpg
ORGANIZER;CN="Abingdon Library":MAILTO:abingdon.library@oxfordshire.gov.uk
END:VEVENT
BEGIN:VEVENT
DTSTART;TZID=Europe/London:20251004T143000
DTEND;TZID=Europe/London:20251004T150000
DTSTAMP:20260422T140946
CREATED:20250901T074009Z
LAST-MODIFIED:20250923T100340Z
UID:10015796-1759588200-1759590000@www.abingdon.gov.uk
SUMMARY:Story Time at Abingdon Library
DESCRIPTION:At Abingdon Library we hold a fabulous story time every Saturday afternoon – no need to book\, just come along!
URL:https://www.abingdon.gov.uk/event/story-time-at-abingdon-library/2025-10-04
LOCATION:Abingdon Library\, The Charter\, Abingdon\, OX14 3LY\, United Kingdom
ATTACH;FMTTYPE=image/jpeg:https://www.abingdon.gov.uk/wp-content/uploads/2025/08/Library-Story-Time-Instagram-and-Facebook.jpg
ORGANIZER;CN="Abingdon Library":MAILTO:abingdon.library@oxfordshire.gov.uk
END:VEVENT
BEGIN:VEVENT
DTSTART;TZID=Europe/London:20250927T143000
DTEND;TZID=Europe/London:20250927T150000
DTSTAMP:20260422T140946
CREATED:20250901T074009Z
LAST-MODIFIED:20250923T100340Z
UID:10015795-1758983400-1758985200@www.abingdon.gov.uk
SUMMARY:Story Time at Abingdon Library
DESCRIPTION:At Abingdon Library we hold a fabulous story time every Saturday afternoon – no need to book\, just come along!
URL:https://www.abingdon.gov.uk/event/story-time-at-abingdon-library/2025-09-27
LOCATION:Abingdon Library\, The Charter\, Abingdon\, OX14 3LY\, United Kingdom
ATTACH;FMTTYPE=image/jpeg:https://www.abingdon.gov.uk/wp-content/uploads/2025/08/Library-Story-Time-Instagram-and-Facebook.jpg
ORGANIZER;CN="Abingdon Library":MAILTO:abingdon.library@oxfordshire.gov.uk
END:VEVENT
BEGIN:VEVENT
DTSTART;TZID=Europe/London:20250920T143000
DTEND;TZID=Europe/London:20250920T150000
DTSTAMP:20260422T140946
CREATED:20250901T074009Z
LAST-MODIFIED:20250923T100340Z
UID:10015794-1758378600-1758380400@www.abingdon.gov.uk
SUMMARY:Story Time at Abingdon Library
DESCRIPTION:At Abingdon Library we hold a fabulous story time every Saturday afternoon – no need to book\, just come along!
URL:https://www.abingdon.gov.uk/event/story-time-at-abingdon-library/2025-09-20
LOCATION:Abingdon Library\, The Charter\, Abingdon\, OX14 3LY\, United Kingdom
ATTACH;FMTTYPE=image/jpeg:https://www.abingdon.gov.uk/wp-content/uploads/2025/08/Library-Story-Time-Instagram-and-Facebook.jpg
ORGANIZER;CN="Abingdon Library":MAILTO:abingdon.library@oxfordshire.gov.uk
END:VEVENT
BEGIN:VEVENT
DTSTART;TZID=Europe/London:20250918T180000
DTEND;TZID=Europe/London:20250918T190000
DTSTAMP:20260422T140946
CREATED:20250819T140555Z
LAST-MODIFIED:20250819T140555Z
UID:10015775-1758218400-1758222000@www.abingdon.gov.uk
SUMMARY:Eve Smith Thriller Author Event
DESCRIPTION:Join us for an engaging talk with Eve Smith\, acclaimed local author of four speculative thrillers. She will share the inspiration and research behind her latest novel\, The Cure—named one of The Times’ best thrillers of 2025. The story explores the accidental discovery of a cure for ageing and the dangerous lengths some will go to in their quest for immortality. Tickets £2\, including a welcome drink\, are available from Abingdon Library\, by calling 01865 815005 or email abingdon.library@oxfordshire.gov.uk
URL:https://www.abingdon.gov.uk/event/eve-smith-thriller-author-event
LOCATION:Abingdon Library\, The Charter\, Abingdon\, OX14 3LY\, United Kingdom
CATEGORIES:Arts & Culture
ATTACH;FMTTYPE=image/jpeg:https://www.abingdon.gov.uk/wp-content/uploads/2025/08/Eve-Smith-Facebook.jpg
ORGANIZER;CN="Abingdon Library":MAILTO:abingdon.library@oxfordshire.gov.uk
END:VEVENT
BEGIN:VEVENT
DTSTART;TZID=Europe/London:20250913T143000
DTEND;TZID=Europe/London:20250913T150000
DTSTAMP:20260422T140946
CREATED:20250901T074009Z
LAST-MODIFIED:20250923T100340Z
UID:10015793-1757773800-1757775600@www.abingdon.gov.uk
SUMMARY:Story Time at Abingdon Library
DESCRIPTION:At Abingdon Library we hold a fabulous story time every Saturday afternoon – no need to book\, just come along!
URL:https://www.abingdon.gov.uk/event/story-time-at-abingdon-library/2025-09-13
LOCATION:Abingdon Library\, The Charter\, Abingdon\, OX14 3LY\, United Kingdom
ATTACH;FMTTYPE=image/jpeg:https://www.abingdon.gov.uk/wp-content/uploads/2025/08/Library-Story-Time-Instagram-and-Facebook.jpg
ORGANIZER;CN="Abingdon Library":MAILTO:abingdon.library@oxfordshire.gov.uk
END:VEVENT
BEGIN:VEVENT
DTSTART;TZID=Europe/London:20250906T143000
DTEND;TZID=Europe/London:20250906T150000
DTSTAMP:20260422T140946
CREATED:20250901T074009Z
LAST-MODIFIED:20250923T100340Z
UID:10015792-1757169000-1757170800@www.abingdon.gov.uk
SUMMARY:Story Time at Abingdon Library
DESCRIPTION:At Abingdon Library we hold a fabulous story time every Saturday afternoon – no need to book\, just come along!
URL:https://www.abingdon.gov.uk/event/story-time-at-abingdon-library/2025-09-06
LOCATION:Abingdon Library\, The Charter\, Abingdon\, OX14 3LY\, United Kingdom
ATTACH;FMTTYPE=image/jpeg:https://www.abingdon.gov.uk/wp-content/uploads/2025/08/Library-Story-Time-Instagram-and-Facebook.jpg
ORGANIZER;CN="Abingdon Library":MAILTO:abingdon.library@oxfordshire.gov.uk
END:VEVENT
BEGIN:VEVENT
DTSTART;TZID=Europe/London:20250830T143000
DTEND;TZID=Europe/London:20250830T150000
DTSTAMP:20260422T140946
CREATED:20250901T074009Z
LAST-MODIFIED:20250923T100340Z
UID:10015791-1756564200-1756566000@www.abingdon.gov.uk
SUMMARY:Story Time at Abingdon Library
DESCRIPTION:At Abingdon Library we hold a fabulous story time every Saturday afternoon – no need to book\, just come along!
URL:https://www.abingdon.gov.uk/event/story-time-at-abingdon-library/2025-08-30
LOCATION:Abingdon Library\, The Charter\, Abingdon\, OX14 3LY\, United Kingdom
ATTACH;FMTTYPE=image/jpeg:https://www.abingdon.gov.uk/wp-content/uploads/2025/08/Library-Story-Time-Instagram-and-Facebook.jpg
ORGANIZER;CN="Abingdon Library":MAILTO:abingdon.library@oxfordshire.gov.uk
END:VEVENT
BEGIN:VEVENT
DTSTART;TZID=Europe/London:20250827T113000
DTEND;TZID=Europe/London:20250827T123000
DTSTAMP:20260422T140946
CREATED:20250708T093754Z
LAST-MODIFIED:20250708T093754Z
UID:10015762-1756294200-1756297800@www.abingdon.gov.uk
SUMMARY:Story writing workshop with Explore Learning
DESCRIPTION:Come to Abingdon Library for a fun and free one-hour workshop for 5-11 year olds. Explore Learning tutors will coach children to plant the seeds of a great idea and grow a magical story! Call 01865 595509 to book your place.
URL:https://www.abingdon.gov.uk/event/story-writing-workshop-with-explore-learning-2
LOCATION:Abingdon Library\, The Charter\, Abingdon\, OX14 3LY\, United Kingdom
ATTACH;FMTTYPE=image/jpeg:https://www.abingdon.gov.uk/wp-content/uploads/2025/07/Join-an-enchanted-story-writing-adventure-with-Explore-Learning.jpg
ORGANIZER;CN="Abingdon Library":MAILTO:abingdon.library@oxfordshire.gov.uk
END:VEVENT
BEGIN:VEVENT
DTSTART;TZID=Europe/London:20250805T103000
DTEND;TZID=Europe/London:20250805T113000
DTSTAMP:20260422T140946
CREATED:20250710T075930Z
LAST-MODIFIED:20250710T075930Z
UID:10012869-1754389800-1754393400@www.abingdon.gov.uk
SUMMARY:Space event with author Sue Palmer
DESCRIPTION:Interested in space exploration? Join Sue as she reads from her May’s Moon series. Booking essential at the library\, by calling 01865 815005 or by email to abingdon.library@oxfordshire.gov.uk
URL:https://www.abingdon.gov.uk/event/space-event-with-author-sue-palmer
LOCATION:Abingdon Library\, The Charter\, Abingdon\, OX14 3LY\, United Kingdom
ATTACH;FMTTYPE=image/jpeg:https://www.abingdon.gov.uk/wp-content/uploads/2025/07/Sue-Palmer-FB.jpg
ORGANIZER;CN="Abingdon Library":MAILTO:abingdon.library@oxfordshire.gov.uk
END:VEVENT
BEGIN:VEVENT
DTSTART;TZID=Europe/London:20250724T113000
DTEND;TZID=Europe/London:20250724T123000
DTSTAMP:20260422T140946
CREATED:20250707T150014Z
LAST-MODIFIED:20250707T150014Z
UID:10015761-1753356600-1753360200@www.abingdon.gov.uk
SUMMARY:Story writing workshop with Explore Learning
DESCRIPTION:Come to Abingdon Library for a fun and free one-hour workshop for 5-11 year olds. Explore Learning tutors will coach children to plant the seeds of a great idea and grow a magical story! Call 01865 595509 to book your place.
URL:https://www.abingdon.gov.uk/event/story-writing-workshop-with-explore-learning
LOCATION:Abingdon Library\, The Charter\, Abingdon\, OX14 3LY\, United Kingdom
ATTACH;FMTTYPE=image/jpeg:https://www.abingdon.gov.uk/wp-content/uploads/2021/05/default-crest.jpg
ORGANIZER;CN="Abingdon Library":MAILTO:abingdon.library@oxfordshire.gov.uk
END:VEVENT
BEGIN:VEVENT
DTSTART;TZID=Europe/London:20250719T100000
DTEND;TZID=Europe/London:20250719T110000
DTSTAMP:20260422T140946
CREATED:20250703T091254Z
LAST-MODIFIED:20250703T091254Z
UID:10015756-1752919200-1752922800@www.abingdon.gov.uk
SUMMARY:Story time with author Denise Beaumont
DESCRIPTION:Join this popular\, local author at Abingdon Library for a reading of Alice the Palace Postwoman & Alfie the Post Associate. Colouring page raffle with prizes\, followed by a book signing. Suitable for ages 3-8+. Free tickets available from the library\, call 01865 815005 or email abingdon.library@oxfordshire.gov.uk
URL:https://www.abingdon.gov.uk/event/story-time-with-author-denise-beaumont
LOCATION:Abingdon Library\, The Charter\, Abingdon\, OX14 3LY\, United Kingdom
ATTACH;FMTTYPE=image/jpeg:https://www.abingdon.gov.uk/wp-content/uploads/2025/07/Denise-Beaumont-Storytime-FB-2.jpg
ORGANIZER;CN="Abingdon Library":MAILTO:abingdon.library@oxfordshire.gov.uk
END:VEVENT
BEGIN:VEVENT
DTSTART;TZID=Europe/London:20250705T090000
DTEND;TZID=Europe/London:20250906T163000
DTSTAMP:20260422T140946
CREATED:20250626T105856Z
LAST-MODIFIED:20250626T105856Z
UID:10012864-1751706000-1757176200@www.abingdon.gov.uk
SUMMARY:Summer Reading Challenge 2025 launch
DESCRIPTION:The Summer Reading Challenge runs 5 July to 6 September 2025 in all Oxfordshire Libraries. Step into the magical world of Story Garden. This year’s challenge celebrates the great outdoors and explores the incredible connection between storytelling and nature. This fun\, free challenge is presented by The Reading Agency and delivered in partnership with libraries. It is the perfect summer activity to build your child’s reading skills and confidence during the holidays. Let your child’s reading blossom this summer and grow a love for books! Come to the library to sign up today and also find out about the array of free events and craft activities we are offering over the summer holidays.
URL:https://www.abingdon.gov.uk/event/summer-reading-challenge-2025-launch
LOCATION:Abingdon Library\, The Charter\, Abingdon\, OX14 3LY\, United Kingdom
ATTACH;FMTTYPE=image/png:https://www.abingdon.gov.uk/wp-content/uploads/2025/06/Square-FB-asset.png
ORGANIZER;CN="Abingdon Library":MAILTO:abingdon.library@oxfordshire.gov.uk
END:VEVENT
BEGIN:VEVENT
DTSTART;TZID=Europe/London:20250527T110000
DTEND;TZID=Europe/London:20250527T120000
DTSTAMP:20260422T140946
CREATED:20250414T080114Z
LAST-MODIFIED:20250414T080114Z
UID:10012752-1748343600-1748347200@www.abingdon.gov.uk
SUMMARY:Children's author event with Naomi Joslyn
DESCRIPTION:Join Naomi Joslyn\, the creator of the Molly McDrew series on her magic blanket for a wonderful and educational story time experience! Booking essential so please collect your free tickets from Abingdon Library\, or reserve by calling 01865 815005 or by email to abingdon.library@oxfordshire.gov.uk
URL:https://www.abingdon.gov.uk/event/childrens-author-event-with-naomi-joslyn
LOCATION:Abingdon Library\, The Charter\, Abingdon\, OX14 3LY\, United Kingdom
ATTACH;FMTTYPE=image/jpeg:https://www.abingdon.gov.uk/wp-content/uploads/2025/04/Naomi-Joslyn-FB-post.jpg
ORGANIZER;CN="Abingdon Library":MAILTO:abingdon.library@oxfordshire.gov.uk
END:VEVENT
BEGIN:VEVENT
DTSTART;TZID=Europe/London:20250501T180000
DTEND;TZID=Europe/London:20250501T190000
DTSTAMP:20260422T140946
CREATED:20250408T094355Z
LAST-MODIFIED:20250408T094355Z
UID:10012710-1746122400-1746126000@www.abingdon.gov.uk
SUMMARY:Author talk with Jasper FForde
DESCRIPTION:Jasper Fforde\, bestselling writer of “absurdist fiction”\, will be talking about his latest book Red Side Story\, the sequel to Shades of Grey\, a funny and darkly satiric adventure about\ntwo star-crossed lovers on a quest to survive – even if it means upending their entire society in the process! Including a Q&A and book signing. Tickets £2 inc. a welcome drink\, available from Abingdon Library\, by calling 01865 815005 or email abingdon.library@oxfordshire.gov.uk
URL:https://www.abingdon.gov.uk/event/author-talk-with-jasper-fforde
LOCATION:Abingdon Library\, The Charter\, Abingdon\, OX14 3LY\, United Kingdom
ATTACH;FMTTYPE=image/jpeg:https://www.abingdon.gov.uk/wp-content/uploads/2025/04/Jasper-Fforde-facebook.jpg
ORGANIZER;CN="Abingdon Library":MAILTO:abingdon.library@oxfordshire.gov.uk
END:VEVENT
BEGIN:VEVENT
DTSTART;TZID=Europe/London:20250327T180000
DTEND;TZID=Europe/London:20250327T190000
DTSTAMP:20260422T140946
CREATED:20250305T085125Z
LAST-MODIFIED:20250305T085125Z
UID:10012693-1743098400-1743102000@www.abingdon.gov.uk
SUMMARY:Empowering Young People in Fact and Fiction
DESCRIPTION:Sylvia and Nancy will be talking about their joint-publication: Not so Black and White\, a compelling work of fiction inspired by Nancy’s life experiences growing up in a small village in Western Kenya\, and also another Nasio publication: Cosmic Cats\, an anthology of stories by children from Mumias Township Primary School in Kenya and St Swithun’s CE Primary School in Oxford. Abingdon-based charity the Nasio Trust has at its heart the empowerment of communities in western Kenya to break the cycle of poverty by providing education\, healthcare\, and opportunities for income-generation to create sustainable communities. \nTickets £2 to include a free welcome drink\, available from Abingdon Library on 01865 815005 or email abingdon.library@oxfordshire.gov.uk.
URL:https://www.abingdon.gov.uk/event/empowering-young-people-in-fact-and-fiction
LOCATION:Abingdon Library\, The Charter\, Abingdon\, OX14 3LY\, United Kingdom
ATTACH;FMTTYPE=image/jpeg:https://www.abingdon.gov.uk/wp-content/uploads/2025/03/Not-so-Black-and-White-cover.jpg
ORGANIZER;CN="Abingdon Library":MAILTO:abingdon.library@oxfordshire.gov.uk
END:VEVENT
END:VCALENDAR