BEGIN:VCALENDAR
VERSION:2.0
PRODID:-//Abingdon on Thames Town Council - ECPv6.15.18//NONSGML v1.0//EN
CALSCALE:GREGORIAN
METHOD:PUBLISH
X-WR-CALNAME:Abingdon on Thames Town Council
X-ORIGINAL-URL:https://www.abingdon.gov.uk
X-WR-CALDESC:Events for Abingdon on Thames Town Council
REFRESH-INTERVAL;VALUE=DURATION:PT1H
X-Robots-Tag:noindex
X-PUBLISHED-TTL:PT1H
BEGIN:VTIMEZONE
TZID:Europe/London
BEGIN:DAYLIGHT
TZOFFSETFROM:+0000
TZOFFSETTO:+0100
TZNAME:BST
DTSTART:20210328T010000
END:DAYLIGHT
BEGIN:STANDARD
TZOFFSETFROM:+0100
TZOFFSETTO:+0000
TZNAME:GMT
DTSTART:20211031T010000
END:STANDARD
BEGIN:DAYLIGHT
TZOFFSETFROM:+0000
TZOFFSETTO:+0100
TZNAME:BST
DTSTART:20220327T010000
END:DAYLIGHT
BEGIN:STANDARD
TZOFFSETFROM:+0100
TZOFFSETTO:+0000
TZNAME:GMT
DTSTART:20221030T010000
END:STANDARD
BEGIN:DAYLIGHT
TZOFFSETFROM:+0000
TZOFFSETTO:+0100
TZNAME:BST
DTSTART:20230326T010000
END:DAYLIGHT
BEGIN:STANDARD
TZOFFSETFROM:+0100
TZOFFSETTO:+0000
TZNAME:GMT
DTSTART:20231029T010000
END:STANDARD
BEGIN:DAYLIGHT
TZOFFSETFROM:+0000
TZOFFSETTO:+0100
TZNAME:BST
DTSTART:20240331T010000
END:DAYLIGHT
BEGIN:STANDARD
TZOFFSETFROM:+0100
TZOFFSETTO:+0000
TZNAME:GMT
DTSTART:20241027T010000
END:STANDARD
BEGIN:DAYLIGHT
TZOFFSETFROM:+0000
TZOFFSETTO:+0100
TZNAME:BST
DTSTART:20250330T010000
END:DAYLIGHT
BEGIN:STANDARD
TZOFFSETFROM:+0100
TZOFFSETTO:+0000
TZNAME:GMT
DTSTART:20251026T010000
END:STANDARD
END:VTIMEZONE
BEGIN:VEVENT
DTSTART;TZID=Europe/London:20240403T113000
DTEND;TZID=Europe/London:20240403T123000
DTSTAMP:20260422T181720
CREATED:20240306T092824Z
LAST-MODIFIED:20240306T092824Z
UID:10014882-1712143800-1712147400@www.abingdon.gov.uk
SUMMARY:Children's author event
DESCRIPTION:Join us for story time with local children’s author Evelyn Crosskey and illustrator Imogen Ives\, who will be reading their magical new book\, combining fantasy and history\, ‘The Guardians of Wittenham Clumps’\, followed by a book signing. Contact the library on 01235 520374 to book your place or email abingdon.library@oxfordshire.gov.uk
URL:https://www.abingdon.gov.uk/event/childrens-author-event
LOCATION:Abingdon Library\, The Charter\, Abingdon\, OX14 3LY\, United Kingdom
ATTACH;FMTTYPE=image/jpeg:https://www.abingdon.gov.uk/wp-content/uploads/2024/03/Evelyn-Crosskey-FB.jpg
ORGANIZER;CN="Abingdon Library":MAILTO:abingdon.library@oxfordshire.gov.uk
END:VEVENT
BEGIN:VEVENT
DTSTART;TZID=Europe/London:20240314T180000
DTEND;TZID=Europe/London:20240314T190000
DTSTAMP:20260422T181720
CREATED:20240311T085318Z
LAST-MODIFIED:20240311T085318Z
UID:10014886-1710439200-1710442800@www.abingdon.gov.uk
SUMMARY:Poetry event with Andrew Jamison
DESCRIPTION:Award-winning Poet Andrew Jamison will be reading from his latest collection ‘Swans We Cannot See’. This will be followed by audience Q&As and a chance to buy a signed copy of his book. Tickets £2 in. refreshments from Abingdon Library on 01235 520374 or email abingdon.library@oxfordshire.gov.uk
URL:https://www.abingdon.gov.uk/event/poetry-event-with-andrew-jamison
LOCATION:Abingdon Library\, The Charter\, Abingdon\, OX14 3LY\, United Kingdom
CATEGORIES:Arts & Culture
ATTACH;FMTTYPE=image/jpeg:https://www.abingdon.gov.uk/wp-content/uploads/2024/03/Andrew-Jamison-FB.jpg
ORGANIZER;CN="Abingdon Library":MAILTO:abingdon.library@oxfordshire.gov.uk
END:VEVENT
BEGIN:VEVENT
DTSTART;TZID=Europe/London:20230928T180000
DTEND;TZID=Europe/London:20230928T190000
DTSTAMP:20260422T181720
CREATED:20230814T162657Z
LAST-MODIFIED:20230814T162657Z
UID:10011660-1695924000-1695927600@www.abingdon.gov.uk
SUMMARY:Author event with Jamie Smith
DESCRIPTION:Join Jamie Smith\, author of the Cold War spy-thriller Soviet Comeback. Find out about the background of this pacey and addictive book and also about how he is branching out into fantasy fiction in his next book\, due out in September. \nTickets £2 including a free glass of wine or juice\, available from the library counter or by calling 01235 520374 or by emailing abingdon.library@oxfordshire.gov.uk
URL:https://www.abingdon.gov.uk/event/author-event-with-jamie-smith
LOCATION:Abingdon Library\, The Charter\, Abingdon\, OX14 3LY\, United Kingdom
CATEGORIES:Arts & Culture
ATTACH;FMTTYPE=image/jpeg:https://www.abingdon.gov.uk/wp-content/uploads/2023/08/MicrosoftTeams-image-2-scaled.jpg
ORGANIZER;CN="Abingdon Library":MAILTO:abingdon.library@oxfordshire.gov.uk
END:VEVENT
BEGIN:VEVENT
DTSTART;TZID=Europe/London:20230624T143000
DTEND;TZID=Europe/London:20230624T150000
DTSTAMP:20260422T181720
CREATED:20230608T091054Z
LAST-MODIFIED:20230608T091054Z
UID:10011591-1687617000-1687618800@www.abingdon.gov.uk
SUMMARY:Refugee Week storytime and craft session
DESCRIPTION:Join us for a special children’s storytime. Michelle from One Planet Abingdon will be reading a selection of beautiful stories that highlight the theme of Refugee Week: Compassion.
URL:https://www.abingdon.gov.uk/event/refugee-week-storytime-and-craft-session
LOCATION:Abingdon Library\, The Charter\, Abingdon\, OX14 3LY\, United Kingdom
ATTACH;FMTTYPE=image/jpeg:https://www.abingdon.gov.uk/wp-content/uploads/2023/06/Refugee-Week-Facebook-Post-Square.jpg
ORGANIZER;CN="One Planet Abingdon":MAILTO:contact@oneplanetabingdon.org
END:VEVENT
BEGIN:VEVENT
DTSTART;TZID=Europe/London:20230617T143000
DTEND;TZID=Europe/London:20230617T160000
DTSTAMP:20260422T181720
CREATED:20230613T095704Z
LAST-MODIFIED:20230613T095704Z
UID:10011595-1687012200-1687017600@www.abingdon.gov.uk
SUMMARY:Story time for Big Green Week
DESCRIPTION:Michelle from One Planet Abingdon has chosen a story or two to read to the young people of Abingdon to raise awareness of the Big Green Week. Join us in the library!
URL:https://www.abingdon.gov.uk/event/story-time-for-big-green-week
LOCATION:Abingdon Library\, The Charter\, Abingdon\, OX14 3LY\, United Kingdom
CATEGORIES:Arts & Culture
ATTACH;FMTTYPE=image/jpeg:https://www.abingdon.gov.uk/wp-content/uploads/2023/06/Great-Big-Green-Storytime-FB-Post-1.jpg
ORGANIZER;CN="One Planet Abingdon":MAILTO:contact@oneplanetabingdon.org
END:VEVENT
BEGIN:VEVENT
DTSTART;TZID=Europe/London:20230617T143000
DTEND;TZID=Europe/London:20230617T150000
DTSTAMP:20260422T181720
CREATED:20230608T091054Z
LAST-MODIFIED:20230608T091054Z
UID:10011590-1687012200-1687014000@www.abingdon.gov.uk
SUMMARY:Great Big Green Storytime and craft session
DESCRIPTION:Michelle Charlesworth from One Planet Abingdon will be reading a selection of wonderful stories with environmental themes\, such as The Lorax by Dr Seuss\, followed by a colourful craft session. No need to book.
URL:https://www.abingdon.gov.uk/event/great-big-green-storytime-and-craft-session
LOCATION:Abingdon Library\, The Charter\, Abingdon\, OX14 3LY\, United Kingdom
ATTACH;FMTTYPE=image/jpeg:https://www.abingdon.gov.uk/wp-content/uploads/2023/06/Great-Big-Green-Storytime-FB-Post.jpg
ORGANIZER;CN="One Planet Abingdon":MAILTO:contact@oneplanetabingdon.org
END:VEVENT
BEGIN:VEVENT
DTSTART;TZID=Europe/London:20221210T143000
DTEND;TZID=Europe/London:20221210T153000
DTSTAMP:20260422T181720
CREATED:20221116T123222Z
LAST-MODIFIED:20221116T123222Z
UID:10014265-1670682600-1670686200@www.abingdon.gov.uk
SUMMARY:Christmas story time with children's author Samuel Langley-Swain
DESCRIPTION:Samuel Langley-Swain will be reading from his new Christmas book Where Björn Belongs – a sensitive and inclusive festive story of friendship and belonging\, centred around the unbreakable bond between a boy and a bear. This is a wonderful chance for your children to meet a fantastic children’s author and a magical start to the Christmas season. Copies of the book will be available for purchase and signing. \nSamuel Langley-Swain is the author of various titles on the Owlet Press list including What Wesley Wore\, Elephants in the Custard\, Storm in a Jar\, and The Blanket Bears\, for which he drew on his own experiences of being an adoptive father. 
URL:https://www.abingdon.gov.uk/event/christmas-story-time-with-childrens-author-samuel-langley-swain
LOCATION:Abingdon Library\, The Charter\, Abingdon\, OX14 3LY\, United Kingdom
CATEGORIES:Arts & Culture
ATTACH;FMTTYPE=image/jpeg:https://www.abingdon.gov.uk/wp-content/uploads/2022/11/where-bjorn-belongs-cover-FINAL-003-scaled.jpg
ORGANIZER;CN="Abingdon Library":MAILTO:abingdon.library@oxfordshire.gov.uk
END:VEVENT
BEGIN:VEVENT
DTSTART;TZID=Europe/London:20221128T120000
DTEND;TZID=Europe/London:20221128T130000
DTSTAMP:20260422T181720
CREATED:20221116T123222Z
LAST-MODIFIED:20221116T123222Z
UID:10014263-1669636800-1669640400@www.abingdon.gov.uk
SUMMARY:How to Eat Well on a Budget - talk by Achieve
DESCRIPTION:Achieve Oxfordshire will be presenting a free talk at the Library on how to eat well on a budget\, including general information on living a healthy lifestyle and the opportunity to sign up for a free weight management programme. \nAchieve Oxfordshire is delivered by the innovative healthy lifestyle provider Thrive Tribe\, and funded by Oxfordshire County Council.
URL:https://www.abingdon.gov.uk/event/how-to-eat-well-on-a-budget-talk-by-achieve
LOCATION:Abingdon Library\, The Charter\, Abingdon\, OX14 3LY\, United Kingdom
ATTACH;FMTTYPE=image/png:https://www.abingdon.gov.uk/wp-content/uploads/2022/11/How-to-Eat-Well-on-a-Budget-poster-date.png
ORGANIZER;CN="Abingdon Library":MAILTO:abingdon.library@oxfordshire.gov.uk
END:VEVENT
BEGIN:VEVENT
DTSTART;TZID=Europe/London:20221115T100000
DTEND;TZID=Europe/London:20221115T120000
DTSTAMP:20260422T181720
CREATED:20221102T104850Z
LAST-MODIFIED:20221102T104850Z
UID:10014247-1668506400-1668513600@www.abingdon.gov.uk
SUMMARY:Scams Awareness drop-in
DESCRIPTION:Scams are increasingly common and many people are caught out. Representatives from Oxfordshire Age UK and a local Police Community Support Officer will be at Abingdon Library to give advice on how to avoid being scammed.
URL:https://www.abingdon.gov.uk/event/scams-awareness-drop-in
LOCATION:Abingdon Library\, The Charter\, Abingdon\, OX14 3LY\, United Kingdom
CATEGORIES:Community Services Committee
ATTACH;FMTTYPE=image/jpeg:https://www.abingdon.gov.uk/wp-content/uploads/2021/05/default-crest.jpg
ORGANIZER;CN="Abingdon Library":MAILTO:abingdon.library@oxfordshire.gov.uk
END:VEVENT
BEGIN:VEVENT
DTSTART;TZID=Europe/London:20221114T100000
DTEND;TZID=Europe/London:20221114T120000
DTSTAMP:20260422T181720
CREATED:20221102T104626Z
LAST-MODIFIED:20221102T104626Z
UID:10011406-1668420000-1668427200@www.abingdon.gov.uk
SUMMARY:Stop for Life - smoking cessation drop-in
DESCRIPTION:Interested in taking the first step to quitting? Come to our next drop-in session at Abingdon Library and talk to an adviser on how you can begin your journey….
URL:https://www.abingdon.gov.uk/event/stop-for-life-smoking-cessation-drop-in
LOCATION:Abingdon Library\, The Charter\, Abingdon\, OX14 3LY\, United Kingdom
ATTACH;FMTTYPE=image/png:https://www.abingdon.gov.uk/wp-content/uploads/2022/11/StopForLifeOxon-Logo_Primary-Dress-on-white-004.png
ORGANIZER;CN="Abingdon Library":MAILTO:abingdon.library@oxfordshire.gov.uk
END:VEVENT
BEGIN:VEVENT
DTSTART;TZID=Europe/London:20221109T090000
DTEND;TZID=Europe/London:20221109T120000
DTSTAMP:20260422T181720
CREATED:20221102T104626Z
LAST-MODIFIED:20221102T104626Z
UID:10011407-1667984400-1667995200@www.abingdon.gov.uk
SUMMARY:Achieve Oxfordshire - Weight-loss and healthy lifestyle drop-in
DESCRIPTION:Healthy lifestyle drop in with the opportunity for a blood-pressure check and signing up to a free weight-management programme.
URL:https://www.abingdon.gov.uk/event/achieve-oxfordshire-weight-loss-and-healthy-lifestyle-drop-in
LOCATION:Abingdon Library\, The Charter\, Abingdon\, OX14 3LY\, United Kingdom
ATTACH;FMTTYPE=image/png:https://www.abingdon.gov.uk/wp-content/uploads/2022/11/Abingdon-Library-event-Instagram-Story.png
ORGANIZER;CN="Abingdon Library":MAILTO:abingdon.library@oxfordshire.gov.uk
END:VEVENT
END:VCALENDAR