BEGIN:VCALENDAR
VERSION:2.0
PRODID:-//Abingdon on Thames Town Council - ECPv6.15.18//NONSGML v1.0//EN
CALSCALE:GREGORIAN
METHOD:PUBLISH
X-ORIGINAL-URL:https://www.abingdon.gov.uk
X-WR-CALDESC:Events for Abingdon on Thames Town Council
REFRESH-INTERVAL;VALUE=DURATION:PT1H
X-Robots-Tag:noindex
X-PUBLISHED-TTL:PT1H
BEGIN:VTIMEZONE
TZID:Europe/London
BEGIN:DAYLIGHT
TZOFFSETFROM:+0000
TZOFFSETTO:+0100
TZNAME:BST
DTSTART:20250330T010000
END:DAYLIGHT
BEGIN:STANDARD
TZOFFSETFROM:+0100
TZOFFSETTO:+0000
TZNAME:GMT
DTSTART:20251026T010000
END:STANDARD
BEGIN:DAYLIGHT
TZOFFSETFROM:+0000
TZOFFSETTO:+0100
TZNAME:BST
DTSTART:20260329T010000
END:DAYLIGHT
BEGIN:STANDARD
TZOFFSETFROM:+0100
TZOFFSETTO:+0000
TZNAME:GMT
DTSTART:20261025T010000
END:STANDARD
BEGIN:DAYLIGHT
TZOFFSETFROM:+0000
TZOFFSETTO:+0100
TZNAME:BST
DTSTART:20270328T010000
END:DAYLIGHT
BEGIN:STANDARD
TZOFFSETFROM:+0100
TZOFFSETTO:+0000
TZNAME:GMT
DTSTART:20271031T010000
END:STANDARD
END:VTIMEZONE
BEGIN:VEVENT
DTSTART;TZID=Europe/London:20260516T190000
DTEND;TZID=Europe/London:20260516T230000
DTSTAMP:20260422T101038
CREATED:20251215T115631Z
LAST-MODIFIED:20251215T115631Z
UID:10016344-1778958000-1778972400@www.abingdon.gov.uk
SUMMARY:Urban Folk Quartet with support from Anna Renae
DESCRIPTION:We are pleased to welcome The Urban Folk Quartet to Harwell. \nUFQ have ignited audiences across the world with their cross-genre\, contemporary take on folk music for over a decade. \nRooted in Celtic tune forms and traditional song\, UFQ also take influence from Afrobeat\, Indian classical\, funk\, rock and a whole lot more. \nFeaturing Joe Broughton on fiddle\, guitar\, and mandolin; Paloma Trigás on fiddle and vocals; Tom Chapman on cajón\, percussion\, and vocals; and Dan Walsh on banjo\, guitar\, and vocals\, their show is a multi-instrumental spectacle of high-energy virtuosity. \nTouring with their newly released and much anticipated seventh album – True Story – expect a groove-filled set of acoustic music\, presented with infectious energy and humour. \nSupport from Anna Renae \nDoors and bar 7pm\, music at 7:40pm
URL:https://www.abingdon.gov.uk/event/urban-folk-quartet-with-support-from-anna-renae
LOCATION:Harwell Village Hall\, High Street\, Harwell\, OX11 0EX\, United Kingdom
CATEGORIES:Arts & Culture
ATTACH;FMTTYPE=image/jpeg:https://www.abingdon.gov.uk/wp-content/uploads/2025/12/ufq_promo-jump.jpg
END:VEVENT
END:VCALENDAR