BEGIN:VCALENDAR
VERSION:2.0
PRODID:-//Abingdon on Thames Town Council - ECPv6.15.18//NONSGML v1.0//EN
CALSCALE:GREGORIAN
METHOD:PUBLISH
X-ORIGINAL-URL:https://www.abingdon.gov.uk
X-WR-CALDESC:Events for Abingdon on Thames Town Council
REFRESH-INTERVAL;VALUE=DURATION:PT1H
X-Robots-Tag:noindex
X-PUBLISHED-TTL:PT1H
BEGIN:VTIMEZONE
TZID:Europe/London
BEGIN:DAYLIGHT
TZOFFSETFROM:+0000
TZOFFSETTO:+0100
TZNAME:BST
DTSTART:20200329T010000
END:DAYLIGHT
BEGIN:STANDARD
TZOFFSETFROM:+0100
TZOFFSETTO:+0000
TZNAME:GMT
DTSTART:20201025T010000
END:STANDARD
BEGIN:DAYLIGHT
TZOFFSETFROM:+0000
TZOFFSETTO:+0100
TZNAME:BST
DTSTART:20210328T010000
END:DAYLIGHT
BEGIN:STANDARD
TZOFFSETFROM:+0100
TZOFFSETTO:+0000
TZNAME:GMT
DTSTART:20211031T010000
END:STANDARD
BEGIN:DAYLIGHT
TZOFFSETFROM:+0000
TZOFFSETTO:+0100
TZNAME:BST
DTSTART:20220327T010000
END:DAYLIGHT
BEGIN:STANDARD
TZOFFSETFROM:+0100
TZOFFSETTO:+0000
TZNAME:GMT
DTSTART:20221030T010000
END:STANDARD
END:VTIMEZONE
BEGIN:VEVENT
DTSTART;TZID=Europe/London:20211119T190000
DTEND;TZID=Europe/London:20211119T190000
DTSTAMP:20260422T192824
CREATED:20210529T170606Z
LAST-MODIFIED:20210529T170606Z
UID:10013129-1637348400-1637348400@www.abingdon.gov.uk
SUMMARY:ROY ORBISON & THE TRAVELLING WILBURYS EXPERIENCE
DESCRIPTION:In 1988 we saw the birth of one of the most famous and memorable supergroups of all time\, The Travelling Wilburys. Featuring five individual icons in their own right\, this formidable team created an album that completely rocked the music industry and sold over five million copies worldwide. Pooling the considerable talents of George Harrison\, Roy Orbison\, Jeff Lynne\, Tom Petty and Bob Dylan\, The Wilburys were a real force to be reckoned with and created a sound and style so unique\, that even to this fay there has never been anything quite like it. \nWith The Wilburys never actually going on tour\, perhaps partly due to the untimely death of Roy Orbison that same year\, played here by Paul Hopkins\, their fans never got to see them all together in a live concert experience. With that in mind\, Paul has joined up with four other very talented singers and musicians\, who together have formed this incredible tribute show. \nTerms and Conditions \n1) Re-entry is not permitted \n2) Tickets are non-refundable \nDoors open: 19.00 \nShow starts: 20.00 \nPlease arrive by 19:30 in order to be seated prior to the show starting. No entry after 20:00. \nEach ticket is subject to a £2.50 service charge\, plus a £1.60 web booking fee per transaction if purchased online. \nTickets just £15! \n\n\n\n\n\n\n\nWeblink for this event
URL:https://www.abingdon.gov.uk/event/roy-orbison-the-travelling-wilburys-experience
LOCATION:The Abbey Cinema\, Guildhall\, Abbey Close entrance\, Abingdon-on-Thames\, United Kingdom
CATEGORIES:Arts & Culture
ATTACH;FMTTYPE=image/jpeg:https://www.abingdon.gov.uk/wp-content/uploads/2021/05/wilburys_image_2.jpg
ORGANIZER;CN="The Abbey Cinema":MAILTO:boxoffice@theabbey.ac
END:VEVENT
BEGIN:VEVENT
DTSTART;TZID=Europe/London:20210903T190000
DTEND;TZID=Europe/London:20210903T190000
DTSTAMP:20260422T192824
CREATED:20210529T145107Z
LAST-MODIFIED:20210529T145107Z
UID:10010895-1630695600-1630695600@www.abingdon.gov.uk
SUMMARY:ABBA FUN NIGHT: KISS THE TEACHER
DESCRIPTION:A great night out with light-hearted entertainment\, all the best songs and a DJ. \nFeaturing all the greatest hits including When I Kissed The Teacher\, Waterloo\, Mamma Mia\, SOS\, Super Trooper and many more! \nPrizes for best dressed and we might have some karaoke as well… \nTerms and Conditions \n1) Re-entry is not permitted \n2) Tickets are non-refundable \n1900 Doors open \n1930 DJ \n2030 Band 1st set \n2120 Interval / DJ \n2145 Band 2nd set \n2235 DJ \n2330 Show end \nShow starts: 20.00 \nPlease arrive by 19:30 in order to be seated prior to the show starting. No entry after 20:00. \nTickets £12.50 \nEach ticket is subject to a £2.50 service charge\, plus a £1.60 web booking fee per transaction if purchased online. \nWeblink for this event\nhttp://bit.ly/3eXO1R6
URL:https://www.abingdon.gov.uk/event/abba-fun-night-kiss-the-teacher
LOCATION:The Abbey Cinema\, Guildhall\, Abbey Close entrance\, Abingdon-on-Thames\, United Kingdom
CATEGORIES:Arts & Culture
ATTACH;FMTTYPE=image/jpeg:https://www.abingdon.gov.uk/wp-content/uploads/2021/05/abba_kiss_the_teacher_image.jpg
ORGANIZER;CN="The Abbey Cinema":MAILTO:boxoffice@theabbey.ac
END:VEVENT
BEGIN:VEVENT
DTSTART;TZID=Europe/London:20210827T193000
DTEND;TZID=Europe/London:20210827T213000
DTSTAMP:20260422T192824
CREATED:20210722T085259Z
LAST-MODIFIED:20210722T085259Z
UID:10013152-1630092600-1630099800@www.abingdon.gov.uk
SUMMARY:Stillwater
DESCRIPTION:Join us for this gritty drama starring MAtt Damon. \n 
URL:https://www.abingdon.gov.uk/event/stillwater
LOCATION:The Abbey Cinema\, Abbey Close\, Abingdon\, OX14 3JD\, United Kingdom
CATEGORIES:Arts & Culture
ATTACH;FMTTYPE=image/jpeg:https://www.abingdon.gov.uk/wp-content/uploads/2021/07/stillwater-image.jpg
ORGANIZER;CN="The Abbey Cinema":MAILTO:boxoffice@theabbey.ac
END:VEVENT
BEGIN:VEVENT
DTSTART;TZID=Europe/London:20210813T193000
DTEND;TZID=Europe/London:20210813T213000
DTSTAMP:20260422T192824
CREATED:20210722T085250Z
LAST-MODIFIED:20210722T085250Z
UID:10013151-1628883000-1628890200@www.abingdon.gov.uk
SUMMARY:The Courier
DESCRIPTION:A fantastic new British cold war drama.
URL:https://www.abingdon.gov.uk/event/the-courier
LOCATION:The Abbey Cinema\, Abbey Close\, Abingdon\, OX14 3JD\, United Kingdom
CATEGORIES:Arts & Culture
ATTACH;FMTTYPE=image/jpeg:https://www.abingdon.gov.uk/wp-content/uploads/2021/07/the-courier-image-4.jpg
ORGANIZER;CN="The Abbey Cinema":MAILTO:boxoffice@theabbey.ac
END:VEVENT
BEGIN:VEVENT
DTSTART;TZID=Europe/London:20210813T163000
DTEND;TZID=Europe/London:20210813T183000
DTSTAMP:20260422T192824
CREATED:20210722T085232Z
LAST-MODIFIED:20210722T085232Z
UID:10013149-1628872200-1628879400@www.abingdon.gov.uk
SUMMARY:The Last Letter From Your Lover
DESCRIPTION:Join us for this British romance based on the bestselling novel.
URL:https://www.abingdon.gov.uk/event/the-last-letter-from-your-lover
LOCATION:The Abbey Cinema\, Abbey Close\, Abingdon\, OX14 3JD\, United Kingdom
CATEGORIES:Arts & Culture
ATTACH;FMTTYPE=image/jpeg:https://www.abingdon.gov.uk/wp-content/uploads/2021/07/the-last-letter-from-your-lover.jpg
ORGANIZER;CN="The Abbey Cinema":MAILTO:boxoffice@theabbey.ac
END:VEVENT
BEGIN:VEVENT
DTSTART;TZID=Europe/London:20210810T193000
DTEND;TZID=Europe/London:20210810T213000
DTSTAMP:20260422T192824
CREATED:20210722T085310Z
LAST-MODIFIED:20210722T085310Z
UID:10010969-1628623800-1628631000@www.abingdon.gov.uk
SUMMARY:The Birthday Cake
DESCRIPTION:Join us for this brand new gangster film.
URL:https://www.abingdon.gov.uk/event/the-birthday-cake
LOCATION:The Abbey Cinema\, Abbey Close\, Abingdon\, OX14 3JD\, United Kingdom
CATEGORIES:Arts & Culture
ATTACH;FMTTYPE=image/jpeg:https://www.abingdon.gov.uk/wp-content/uploads/2021/07/the-birthday-cake.jpg
ORGANIZER;CN="The Abbey Cinema":MAILTO:boxoffice@theabbey.ac
END:VEVENT
BEGIN:VEVENT
DTSTART;TZID=Europe/London:20210806T130000
DTEND;TZID=Europe/London:20210806T150000
DTSTAMP:20260422T192824
CREATED:20210722T085223Z
LAST-MODIFIED:20210722T085223Z
UID:10013148-1628254800-1628262000@www.abingdon.gov.uk
SUMMARY:Jungle Cruise
DESCRIPTION:Join us for Disney’s latest family adventure.
URL:https://www.abingdon.gov.uk/event/jungle-cruise
LOCATION:The Abbey Cinema\, Abbey Close\, Abingdon\, OX14 3JD\, United Kingdom
CATEGORIES:Arts & Culture
ATTACH;FMTTYPE=image/jpeg:https://www.abingdon.gov.uk/wp-content/uploads/2021/07/jungle-cruise-image-2.jpg
ORGANIZER;CN="The Abbey Cinema":MAILTO:boxoffice@theabbey.ac
END:VEVENT
BEGIN:VEVENT
DTSTART;TZID=Europe/London:20210730T193000
DTEND;TZID=Europe/London:20210730T213000
DTSTAMP:20260422T192824
CREATED:20210722T085205Z
LAST-MODIFIED:20210722T085205Z
UID:10013146-1627673400-1627680600@www.abingdon.gov.uk
SUMMARY:Black Widow
DESCRIPTION:Join us for Marvel’s latest action blockbuster.
URL:https://www.abingdon.gov.uk/event/black-widow
LOCATION:The Abbey Cinema\, Abbey Close\, Abingdon\, OX14 3JD\, United Kingdom
CATEGORIES:Arts & Culture
ATTACH;FMTTYPE=image/jpeg:https://www.abingdon.gov.uk/wp-content/uploads/2021/07/black-widow-image-scaled.jpeg
ORGANIZER;CN="The Abbey Cinema":MAILTO:boxoffice@theabbey.ac
END:VEVENT
BEGIN:VEVENT
DTSTART;TZID=Europe/London:20210730T130000
DTEND;TZID=Europe/London:20210730T150000
DTSTAMP:20260422T192824
CREATED:20210722T085214Z
LAST-MODIFIED:20210722T085214Z
UID:10013147-1627650000-1627657200@www.abingdon.gov.uk
SUMMARY:Space Jam: A New Legacy
DESCRIPTION:Don’t miss this fun family sequel.
URL:https://www.abingdon.gov.uk/event/space-jam-a-new-legacy
LOCATION:The Abbey Cinema\, Abbey Close\, Abingdon\, OX14 3JD\, United Kingdom
CATEGORIES:Arts & Culture
ATTACH;FMTTYPE=image/jpeg:https://www.abingdon.gov.uk/wp-content/uploads/2021/07/space-jam-a-new-legacy-image.jpg
ORGANIZER;CN="The Abbey Cinema":MAILTO:boxoffice@theabbey.ac
END:VEVENT
BEGIN:VEVENT
DTSTART;TZID=Europe/London:20210720T193000
DTEND;TZID=Europe/London:20210720T213000
DTSTAMP:20260422T192824
CREATED:20210722T085240Z
LAST-MODIFIED:20210722T085240Z
UID:10013150-1626809400-1626816600@www.abingdon.gov.uk
SUMMARY:The Suicide Squad
DESCRIPTION:Join us for the newest action-packed superhero comedy.
URL:https://www.abingdon.gov.uk/event/the-suicide-squad
LOCATION:The Abbey Cinema\, Abbey Close\, Abingdon\, OX14 3JD\, United Kingdom
CATEGORIES:Arts & Culture
ATTACH;FMTTYPE=image/jpeg:https://www.abingdon.gov.uk/wp-content/uploads/2021/07/the-suicide-squad-2021.jpeg
ORGANIZER;CN="The Abbey Cinema":MAILTO:boxoffice@theabbey.ac
END:VEVENT
BEGIN:VEVENT
DTSTART;TZID=Europe/London:20210718T150000
DTEND;TZID=Europe/London:20210718T170000
DTSTAMP:20260422T192824
CREATED:20210625T100500Z
LAST-MODIFIED:20210625T100500Z
UID:10013137-1626620400-1626627600@www.abingdon.gov.uk
SUMMARY:British Grand Prix LIVE from Silverstone
DESCRIPTION:Join us for this high-octane Formula 1 race on this biggest screen in Abingdon.
URL:https://www.abingdon.gov.uk/event/british-grand-prix-live-from-silverstone
LOCATION:The Abbey Cinema\, Abbey Close\, Abingdon\, OX14 3JD\, United Kingdom
CATEGORIES:Sports & Leisure
ATTACH;FMTTYPE=image/jpeg:https://www.abingdon.gov.uk/wp-content/uploads/2021/06/british-grand-prix-image.jpg
ORGANIZER;CN="The Abbey Cinema":MAILTO:boxoffice@theabbey.ac
END:VEVENT
BEGIN:VEVENT
DTSTART;TZID=Europe/London:20210717T190000
DTEND;TZID=Europe/London:20210717T220000
DTSTAMP:20260422T192824
CREATED:20210625T100443Z
LAST-MODIFIED:20210625T100443Z
UID:10013136-1626548400-1626559200@www.abingdon.gov.uk
SUMMARY:Out of Africa
DESCRIPTION:Join us for this 1985 classic romance starring Meryl Streep and Robert Redford.
URL:https://www.abingdon.gov.uk/event/out-of-africa
LOCATION:The Abbey Cinema\, Abbey Close\, Abingdon\, OX14 3JD\, United Kingdom
CATEGORIES:Arts & Culture
ATTACH;FMTTYPE=image/jpeg:https://www.abingdon.gov.uk/wp-content/uploads/2021/06/out-of-africa-image.jpg
ORGANIZER;CN="The Abbey Cinema":MAILTO:boxoffice@theabbey.ac
END:VEVENT
BEGIN:VEVENT
DTSTART;TZID=Europe/London:20210717T130000
DTEND;TZID=Europe/London:20210717T150000
DTSTAMP:20260422T192824
CREATED:20210625T100429Z
LAST-MODIFIED:20210625T100429Z
UID:10013135-1626526800-1626534000@www.abingdon.gov.uk
SUMMARY:Three Billboards Outside Ebbing\, Missouri
DESCRIPTION:In honour of Frances McDormand’s fourth Oscar win for Nomadland\, join us for the performance which earned her third.
URL:https://www.abingdon.gov.uk/event/three-billboards-outside-ebbing-missouri
LOCATION:The Abbey Cinema\, Abbey Close\, Abingdon\, OX14 3JD\, United Kingdom
CATEGORIES:Arts & Culture
ATTACH;FMTTYPE=image/jpeg:https://www.abingdon.gov.uk/wp-content/uploads/2021/06/three-billboards-image-2.jpg
ORGANIZER;CN="The Abbey Cinema":MAILTO:boxoffice@theabbey.ac
END:VEVENT
BEGIN:VEVENT
DTSTART;TZID=Europe/London:20210716T193000
DTEND;TZID=Europe/London:20210716T213000
DTSTAMP:20260422T192824
CREATED:20210625T100416Z
LAST-MODIFIED:20210625T100416Z
UID:10013134-1626463800-1626471000@www.abingdon.gov.uk
SUMMARY:The Devil Wears Prada
DESCRIPTION:Join us for the 15th anniversary of this comedy classic.
URL:https://www.abingdon.gov.uk/event/the-devil-wears-prada
LOCATION:The Abbey Cinema\, Abbey Close\, Abingdon\, OX14 3JD\, United Kingdom
CATEGORIES:Arts & Culture
ATTACH;FMTTYPE=image/jpeg:https://www.abingdon.gov.uk/wp-content/uploads/2021/06/the-devil-wears-prada-image.jpg
ORGANIZER;CN="The Abbey Cinema":MAILTO:boxoffice@theabbey.ac
END:VEVENT
BEGIN:VEVENT
DTSTART;TZID=Europe/London:20210710T190000
DTEND;TZID=Europe/London:20210710T210000
DTSTAMP:20260422T192824
CREATED:20210622T081148Z
LAST-MODIFIED:20210622T081148Z
UID:10013133-1625943600-1625950800@www.abingdon.gov.uk
SUMMARY:Top Gun
DESCRIPTION:Join us for one night only for this 1980s classic.
URL:https://www.abingdon.gov.uk/event/top-gun
LOCATION:The Abbey Cinema\, Abbey Close\, Abingdon\, OX14 3JD\, United Kingdom
CATEGORIES:Arts & Culture
ATTACH;FMTTYPE=image/jpeg:https://www.abingdon.gov.uk/wp-content/uploads/2021/06/top-gun-image.jpg
ORGANIZER;CN="The Abbey Cinema":MAILTO:boxoffice@theabbey.ac
END:VEVENT
BEGIN:VEVENT
DTSTART;TZID=Europe/London:20210709T073000
DTEND;TZID=Europe/London:20210709T213000
DTSTAMP:20260422T192824
CREATED:20210622T081126Z
LAST-MODIFIED:20210622T081126Z
UID:10010957-1625815800-1625866200@www.abingdon.gov.uk
SUMMARY:A Quiet Place Part II
DESCRIPTION:Don’t miss this tense horror sequel on the big screen. Showing Fri 9 July 7:30 & Sat 10 July 4:30.
URL:https://www.abingdon.gov.uk/event/a-quiet-place-part-ii
LOCATION:The Abbey Cinema\, Abbey Close\, Abingdon\, OX14 3JD\, United Kingdom
CATEGORIES:Arts & Culture
ATTACH;FMTTYPE=image/jpeg:https://www.abingdon.gov.uk/wp-content/uploads/2021/06/a-quiet-place-part-ii-image.jpg
ORGANIZER;CN="The Abbey Cinema":MAILTO:boxoffice@theabbey.ac
END:VEVENT
BEGIN:VEVENT
DTSTART;TZID=Europe/London:20210704T153000
DTEND;TZID=Europe/London:20210704T173000
DTSTAMP:20260422T192824
CREATED:20210622T081135Z
LAST-MODIFIED:20210622T081135Z
UID:10010958-1625412600-1625419800@www.abingdon.gov.uk
SUMMARY:Hitman's Wife's Bodyguard
DESCRIPTION:Join us for this hilarious action sequel.
URL:https://www.abingdon.gov.uk/event/hitmans-wifes-bodyguard
LOCATION:The Abbey Cinema\, Abbey Close\, Abingdon\, OX14 3JD\, United Kingdom
CATEGORIES:Arts & Culture
ATTACH;FMTTYPE=image/jpeg:https://www.abingdon.gov.uk/wp-content/uploads/2021/06/the-hitmans-wifes-bodyguard-image.jpeg
ORGANIZER;CN="The Abbey Cinema":MAILTO:boxoffice@theabbey.ac
END:VEVENT
BEGIN:VEVENT
DTSTART;TZID=Europe/London:20210703T163000
DTEND;TZID=Europe/London:20210703T183000
DTSTAMP:20260422T192824
CREATED:20210622T081035Z
LAST-MODIFIED:20210622T081110Z
UID:10010956-1625329800-1625337000@www.abingdon.gov.uk
SUMMARY:Dream Horse
DESCRIPTION:Join us for this feel-good British film about a Welsh town that comes together to raise a race horse. Showing Sat 3rd July 4:30 and Sun 4th July 6:30.
URL:https://www.abingdon.gov.uk/event/dream-horse
LOCATION:The Abbey Cinema\, Abbey Close\, Abingdon\, OX14 3JD\, United Kingdom
CATEGORIES:Arts & Culture
ATTACH;FMTTYPE=image/jpeg:https://www.abingdon.gov.uk/wp-content/uploads/2021/06/dream-horse-image.jpeg
ORGANIZER;CN="The Abbey Cinema":MAILTO:boxoffice@theabbey.ac
END:VEVENT
BEGIN:VEVENT
DTSTART;TZID=Europe/London:20210629T170000
DTEND;TZID=Europe/London:20210629T190000
DTSTAMP:20260422T192824
CREATED:20210625T100513Z
LAST-MODIFIED:20210625T100513Z
UID:10013138-1624986000-1624993200@www.abingdon.gov.uk
SUMMARY:England V Germany at The Abbey
DESCRIPTION:Don’t miss this fantastic match on the biggest screen in Abingdon!
URL:https://www.abingdon.gov.uk/event/england-v-germany-at-the-abbey
LOCATION:The Abbey Cinema\, Abbey Close\, Abingdon\, OX14 3JD\, United Kingdom
CATEGORIES:Sports & Leisure
ATTACH;FMTTYPE=image/jpeg:https://www.abingdon.gov.uk/wp-content/uploads/2021/06/england-euro.jpg
ORGANIZER;CN="The Abbey Cinema":MAILTO:boxoffice@theabbey.ac
END:VEVENT
BEGIN:VEVENT
DTSTART;TZID=Europe/London:20210622T200000
DTEND;TZID=Europe/London:20210622T213000
DTSTAMP:20260422T192824
CREATED:20210510T151257Z
LAST-MODIFIED:20210601T125756Z
UID:10013109-1624392000-1624397400@www.abingdon.gov.uk
SUMMARY:Euro 2020: CZECH REPUBLIC V ENGLAND at The Abbey Cinema
DESCRIPTION:Join us for this football match on the biggest screen in Abingdon!
URL:https://www.abingdon.gov.uk/event/euro-2020-czech-republic-v-england-at-the-abbey-cinema
LOCATION:The Abbey Cinema\, Guildhall\, Abbey Close entrance\, Abingdon-on-Thames\, United Kingdom
CATEGORIES:Sports & Leisure
ATTACH;FMTTYPE=image/jpeg:https://www.abingdon.gov.uk/wp-content/uploads/2021/05/euros_3.jpg
ORGANIZER;CN="The Abbey Cinema":MAILTO:boxoffice@theabbey.ac
END:VEVENT
BEGIN:VEVENT
DTSTART;TZID=Europe/London:20210618T200000
DTEND;TZID=Europe/London:20210618T220000
DTSTAMP:20260422T192824
CREATED:20210510T145553Z
LAST-MODIFIED:20210601T121007Z
UID:10013107-1624046400-1624053600@www.abingdon.gov.uk
SUMMARY:Euro 2020: ENGLAND V SCOTLAND at the Abbey Cinema
DESCRIPTION:Join us for this football match on the biggest screen in Abingdon!
URL:https://www.abingdon.gov.uk/event/euro-2020-england-v-scotland-at-the-abbey-cinema
LOCATION:The Abbey Cinema\, Guildhall\, Abbey Close entrance\, Abingdon-on-Thames\, United Kingdom
CATEGORIES:Sports & Leisure
ATTACH;FMTTYPE=image/jpeg:https://www.abingdon.gov.uk/wp-content/uploads/2021/05/euros_2.jpg
ORGANIZER;CN="The Abbey Cinema":MAILTO:boxoffice@theabbey.ac
END:VEVENT
BEGIN:VEVENT
DTSTART;TZID=Europe/London:20210613T140000
DTEND;TZID=Europe/London:20210613T153000
DTSTAMP:20260422T192824
CREATED:20210510T141104Z
LAST-MODIFIED:20210601T121311Z
UID:10013103-1623592800-1623598200@www.abingdon.gov.uk
SUMMARY:Euro 2020: ENGLAND V CROATIA at The Abbey Cinema
DESCRIPTION:Join us for this football match at the biggest screen in Abingdon!
URL:https://www.abingdon.gov.uk/event/euro-2020-england-v-croatia-at-the-abbey-cinema
LOCATION:The Abbey Cinema\, Guildhall\, Abbey Close entrance\, Abingdon-on-Thames\, United Kingdom
CATEGORIES:Sports & Leisure
ATTACH;FMTTYPE=image/jpeg:https://www.abingdon.gov.uk/wp-content/uploads/2021/05/euros.jpg
ORGANIZER;CN="The Abbey Cinema":MAILTO:boxoffice@theabbey.ac
END:VEVENT
BEGIN:VEVENT
DTSTART;TZID=Europe/London:20210611T193000
DTEND;TZID=Europe/London:20210611T210000
DTSTAMP:20260422T192824
CREATED:20210510T135750Z
LAST-MODIFIED:20210601T120842Z
UID:10013101-1623439800-1623445200@www.abingdon.gov.uk
SUMMARY:The Father
DESCRIPTION:Join us for this BAFTA winning drama starring Sir Anthony Hopkins and Olivia Colman. \nShowing from Fri 11 Jun
URL:https://www.abingdon.gov.uk/event/the-father
LOCATION:The Abbey Cinema\, Guildhall\, Abbey Close entrance\, Abingdon-on-Thames\, United Kingdom
CATEGORIES:Arts & Culture
ATTACH;FMTTYPE=image/jpeg:https://www.abingdon.gov.uk/wp-content/uploads/2021/05/the_father_image.jpg
ORGANIZER;CN="The Abbey Cinema":MAILTO:boxoffice@theabbey.ac
END:VEVENT
BEGIN:VEVENT
DTSTART;TZID=Europe/London:20210528T161500
DTEND;TZID=Europe/London:20210528T161500
DTSTAMP:20260422T192824
CREATED:20210517T202035Z
LAST-MODIFIED:20210517T202120Z
UID:10013117-1622218500-1622218500@www.abingdon.gov.uk
SUMMARY:Cruella
DESCRIPTION:In the hotly anticipated live-action prequel to the much loved animated classic 101 Dalmatians\, Emma Stone takes on the mantle of a young Cruella de Vil\, as she takes on one of her first adventures in 1970’s London.
URL:https://www.abingdon.gov.uk/event/cruella
LOCATION:The Abbey Cinema\, Abbey Close\, Abingdon\, OX14 3JD\, United Kingdom
CATEGORIES:Arts & Culture
ATTACH;FMTTYPE=image/jpeg:https://www.abingdon.gov.uk/wp-content/uploads/2021/05/cruella_dogs.jpg
ORGANIZER;CN="The Abbey Cinema":MAILTO:boxoffice@theabbey.ac
END:VEVENT
BEGIN:VEVENT
DTSTART;TZID=Europe/London:20210523T183000
DTEND;TZID=Europe/London:20210523T183000
DTSTAMP:20260422T192824
CREATED:20210510T133713Z
LAST-MODIFIED:20210510T133713Z
UID:10013096-1621794600-1621794600@www.abingdon.gov.uk
SUMMARY:My New York Year
DESCRIPTION:Join us for this brilliant historical drama starring Sigourney Weaver as the agent of author J.D. Salinger. \nShowing from Sun 23 May
URL:https://www.abingdon.gov.uk/event/my-new-york-year
LOCATION:The Abbey Cinema\, Guildhall\, Abbey Close entrance\, Abingdon-on-Thames\, United Kingdom
CATEGORIES:Arts & Culture
ATTACH;FMTTYPE=image/jpeg:https://www.abingdon.gov.uk/wp-content/uploads/2021/05/my_new_york_year_image.jpg
ORGANIZER;CN="The Abbey Cinema":MAILTO:boxoffice@theabbey.ac
END:VEVENT
BEGIN:VEVENT
DTSTART;TZID=Europe/London:20210522T103000
DTEND;TZID=Europe/London:20210522T103000
DTSTAMP:20260422T192824
CREATED:20210510T130615Z
LAST-MODIFIED:20210510T130615Z
UID:10013094-1621679400-1621679400@www.abingdon.gov.uk
SUMMARY:Peter Rabbit 2
DESCRIPTION:oin us for this fantastic family film! \nShowing from Sat 22 May \nWeblink for this event\nhttp://bit.ly/3vbMAnG
URL:https://www.abingdon.gov.uk/event/peter-rabbit-2
LOCATION:The Abbey Cinema\, Guildhall\, Abbey Close entrance\, Abingdon-on-Thames\, United Kingdom
CATEGORIES:Arts & Culture
ATTACH;FMTTYPE=image/jpeg:https://www.abingdon.gov.uk/wp-content/uploads/2021/05/peter_rabbit_2_image.jpg
ORGANIZER;CN="The Abbey Cinema":MAILTO:boxoffice@theabbey.ac
END:VEVENT
BEGIN:VEVENT
DTSTART;TZID=Europe/London:20210510T080000
DTEND;TZID=Europe/London:20210510T170000
DTSTAMP:20260422T192824
CREATED:20210510T133907Z
LAST-MODIFIED:20210510T133907Z
UID:10013097-1620633600-1620666000@www.abingdon.gov.uk
SUMMARY:Six Minutes to Midnight
DESCRIPTION:Join us for this fantastic historical drama starring Eddie Izzard and Dame Judi Dench. \nShowing from Mon 24 May
URL:https://www.abingdon.gov.uk/event/six-minutes-to-midnight
LOCATION:The Abbey Cinema\, Guildhall\, Abbey Close entrance\, Abingdon-on-Thames\, United Kingdom
CATEGORIES:Arts & Culture
ATTACH;FMTTYPE=image/jpeg:https://www.abingdon.gov.uk/wp-content/uploads/2021/05/six_minutes_to_midnight_image.jpg
ORGANIZER;CN="The Abbey Cinema":MAILTO:boxoffice@theabbey.ac
END:VEVENT
END:VCALENDAR